BEGIN:VCALENDAR
VERSION:2.0
PRODID:-//tapahtumainfo.fi//NONSGML Junnun matkassa - vappukonsertti//EN
METHOD:REQUEST
BEGIN:VEVENT
UID:20260422T204530-624194810-tapahtumainfo.fi
DTSTAMP:20260422T204530
DTSTART:20260430T180000Z
DTEND:20260430T020000Z
LOCATION:Savonlinnan Teatteri, PÄÄSALI
SUMMARY:Junnun matkassa - vappukonsertti
DESCRIPTION:<html><head></head><body>Junnun jokainen laulu on matka. Laulujen seuratessa toisiaan näistä yksittäisistä matkoista syntyy kokonaisuus. Jokainen kuulija kokee matkan omalla tavallaan, omiin kokemuksiinsa peilaten. Kokemukset voivat olla viihdyttäviä, koskettavia, hauskoja, surullisia… Vappukonsertin voi kokea yhtenä, kahtena tai useampana matkana. Jokainen matka on ehdottomasti kokemisen arvoinen. Viihdyttävää matkaa! <br><br>Kapellimestarina Teemu Takanen. <br>Konsertin on koonnut ja juontaa Kari Suhonen. <br>Solisteina Kari Suhonen, Johanna Ahonen, Aino Mankonen, Mikko Leinonen ja Lauri Kortelainen. <br /><br />  Visit event in our website: <a href='https://tapahtumainfo.fi/tapahtuma/2026/04/junnun-matkassa-vappukonsertti/431713'>Tapahtumainfo.fi</a></body></html>
END:VEVENT
END:VCALENDAR
