BEGIN:VCALENDAR
VERSION:2.0
PRODID:-//tapahtumainfo.fi//NONSGML A.W. Yrjänä 40v - Juhlakiertue K-18//EN
METHOD:REQUEST
BEGIN:VEVENT
UID:20260420T031445-541106878-tapahtumainfo.fi
DTSTAMP:20260420T031445
DTSTART:20260423T200000Z
DTEND:20260423T020000Z
LOCATION:Korjaamo, Kulmasali*
SUMMARY:A.W. Yrjänä 40v - Juhlakiertue K-18
DESCRIPTION:<html><head></head><body><p>  A.W. Yrjänä kiertää keväällä 2026 maata 40-vuotistaiteilijajuhlavuotensa   merkeissä. Yrjänä esittää yhtyeineen valitttuja lauluja uransa varrelta,   nämä konsertit ovat ainoa mahdollisuus kuulla myös CMX-tuotantoa tässä   ajassa.<br><br></p> <br /><br />  Visit event in our website: <a href='https://tapahtumainfo.fi/tapahtuma/2026/04/a-w-yrjana-40v-juhlakiertue-k-18/431722'>Tapahtumainfo.fi</a></body></html>
END:VEVENT
END:VCALENDAR
