BEGIN:VCALENDAR
VERSION:2.0
PRODID:-//tapahtumainfo.fi//NONSGML Aliisa Syrjä K-18//EN
METHOD:REQUEST
BEGIN:VEVENT
UID:20260422T220312-874442897-tapahtumainfo.fi
DTSTAMP:20260422T220312
DTSTART:20260430T190000Z
DTEND:20260430T020000Z
LOCATION:Olympia
SUMMARY:Aliisa Syrjä K-18
DESCRIPTION:<html><head></head><body><div class="ck-content" data-wrapper="true" dir="ltr">  <span><font color="#242424"><b>Aliisa Syrjä</b> on   laulaja-lauluntekijä, jonka sävellykset ja tekstit vievät mukanaan   jonnekin sinne, missä surun ja onnen rajat ovat häilyvät ja mannerlaatat   jyrisevät jalkojen alla.</font></span><br><br><span><font color="#242424">Platinaa   ja kultaa striimanneilla <i>Tää tunne</i>, 2<i>:02 </i>ja <i>Sydämetön</i> singleillään   hurmannut Aliisa sanoittaa, säveltää ja on myös mukana biisien   tuotannoissa. Artisti valittiin mukaan YleX Läpimurto-listaukseen   keväällä 2023, jossa hän sijoittui huikeasti toiseksi. Aliisan platinaa   striimannut debyyttialbumi <i>Höyheniä ja saaria</i> julkaistiin   lokakuussa 2023. Vuoden 2024 Emma Gaalassa Aliisa oli ehdolla Vuoden   tulokas-kategoriassa.</font></span><br><br><span><font color="#242424">Parhaiten   artistina Aliisaa kuvaa se, että hänen lauluissaan klassikkokirjojen   järkälemäinen ja filosofinen sisältö yhdistyy nuoren ihmisen elämään   sekä perinteinen lauluntekijyys nykypäivään.</font></span></div> <br /><br />  Visit event in our website: <a href='https://tapahtumainfo.fi/tapahtuma/2026/04/aliisa-syrja-k-18/431825'>Tapahtumainfo.fi</a></body></html>
END:VEVENT
END:VCALENDAR
