BEGIN:VCALENDAR
VERSION:2.0
PRODID:-//tapahtumainfo.fi//NONSGML KURKKUROCK 2026 (K-18)//EN
METHOD:REQUEST
BEGIN:VEVENT
UID:20260420T234218-795159700-tapahtumainfo.fi
DTSTAMP:20260420T234218
DTSTART:20260815T170000Z
DTEND:20260815T020000Z
LOCATION:Askaisten Holvi
SUMMARY:KURKKUROCK 2026 (K-18)
DESCRIPTION:<html><head></head><body><p>  <b>Kurkkurock</b> on paljon enemmän kuin pelkkä festari – se on   traditio, kesän kohokohta ja kohtaamispiste kaikille hyvän musiikin   ystäville. Kurkkurock on jälleen täynnä energiaa, kun bändit rokkaavat   Askaisten Holvin lavalla ja vauhti kiihtyy.</p><p>  Tänä vuonna tarjoilemme jälleen kovan kattauksen taattua rock-menoa   rennossa tunnelmassa.<br><br>Vuoden 2026 Kurkkurockissa esiintyvät:</p><p>  REMEDY (SWE)</p><p>  The Grammers</p><p>  Kakkupojat<br></p><p>  The Top Guns</p><p>  High Octane</p><p>  </p><p>  <b>Varmista hyvä festarifiilis olosuhteista riippumatta ja hanki   paikkasi VIP-alueelta!</b></p><p>  Nauti VIP-tason festarista ja jammaile parhailla paikoilla varmasti   säältä suojassa. Kurkkurockissa on istumapaikkoja ainoastaan   VIP-alueella ja<b> vain</b> <b>VIP-lipulla</b> varmistat, että sinulla   ja kavereillesi on koko illan ajan oma pöytä. Tunnelma ei siis pääse   droppaamaan sateen sattuessakaan. Festarikokemuksen viimeistelee upea   VIP-paketti, johon kuuluu 2 festarijuomaa ja pientä purtavaa.</p><p>  </p><p>  Tapahtuma-alue on kokonaisuudessaan K-18.</p><p>  Tarkemmat tiedot tapahtumasta https://www.kurkkurock.fi<br><br>Peruslippu   vaihdetaan rannekkeeseen jolla pääset alueelle. VIP-lippu vaihdetaan   VIP-passiin joko ennakkoon Askaisten Holvilla tai tapahtuman portilla.   Mikäli noudat VIP-passisi ennakkoon vältyt mahdolliselta jonottamiselta   saapuessasi tapahtumaan. VIP-lipulla saat: pääsy tapahtuma-alueelle,   istumapaikka säältä suojassa, pientä purtavaa, kaksi festarijuomaa. Sekä   rannekkeella että VIP-passilla voit tarvittaessa poistua alueelta ja   palata vapaasti takaisin. ISTUMAPAIKKOJA VAIN VIP-ALUEELLA.<br></p> <br /><br />  Visit event in our website: <a href='https://tapahtumainfo.fi/tapahtuma/2026/08/kurkkurock-2026-k-18/431920'>Tapahtumainfo.fi</a></body></html>
END:VEVENT
END:VCALENDAR
