BEGIN:VCALENDAR
VERSION:2.0
PRODID:-//tapahtumainfo.fi//NONSGML Kadonneen energisyyden metsästys - Paula Heinonen//EN
METHOD:REQUEST
BEGIN:VEVENT
UID:20260424T121654-1379703214-tapahtumainfo.fi
DTSTAMP:20260424T121654
DTSTART:20261017T180000Z
DTEND:20261017T020000Z
LOCATION:Mikaeli, Martti Talvela -sali
SUMMARY:Kadonneen energisyyden metsästys - Paula Heinonen
DESCRIPTION:<html><head></head><body><b>Paula Heinosen hyvinvoinnin luento ja kaikille vapaa hyvinvoinnin messuosasto!</b><br><br>Päivän luennosta vastaa TkL, Funktionaalisen lääketieteen kouluttaja, ex-suolistotutkija, tietokirjailija sekä valovoimainen luennoitsija Paula Heinonen. Lue alta luennon sisällöstä ja varmista paikkasi luennolle nyt!<br><br><b>Päivän aikataulu</b><br>15:00 Ovet avataa<br>klo 15-18 Kaikille avoin ohjelma<br>18:00 – Paula Heinonen aloittaa (klo 18 alkaen sisäänpääsy vain luennolle lipun ostaneille)<br>19:45 – Tauko<br>20:15 – Paula Heinonen jatkaa<br>21:00 – Luento päättyy<br><br><b>Kadonneen energisyyden metsästys - Paula Heinonen</b><br>Tällä yleisöluennolla lähdemme metsästämään kadonnutta energiaa, joten se sopii täydellisesti syksyn pimeneviin iltoihin<br><br>Kuulen työssäni jatkuvasti ihmisten pohtivan, miksi he ovat väsyneitä, uupuneita tai miksi energia ei palaudu levosta huolimatta. Lohdullinen ja samalla voimaannuttava tieto on tämä: väsymys ja uupumus eivät ole pysyvä olotila. Kadonnut energisyys ja hyvä olo ovat palautettavissa.<br><br>Kyse ei ole tahdonvoiman puutteesta, vaan kehon biokemiasta ja taustalla vaikuttavista tekijöistä – ja siitä, että ymmärrät, miten keho tuottaa energiaa ja mitä se siihen tarvitsee.<br>Mikkelin yleisöluennolla 17.10.2026 avaan selkeästi ja käytännönläheisesti, mitä nykytutkimus kertoo uupumuksesta, energian muodostumisesta ja elinvoimasta. Käsittelen muun muassa seuraavia aiheita:<br>•⁠ ⁠Miten ruokavalio kannattaa koostaa, jos haluat olla aidosti energinen?<br>•⁠ ⁠Miten suolisto ja sen kiehtova mikrobisto vaikuttavat jaksamiseen ja vireyteen?<br>•⁠ ⁠Mitkä tekijät voivat huomaamatta heikentää energiantuotantoa?<br>•⁠ ⁠Mikä on kilpirauhasen rooli jaksamisessa – ja miten stressi sekä maksan kuormitus vaikuttavat sen toimintaan?<br>•⁠ ⁠Miten stressi vaikuttaa hermostoon, hormoneihin ja erityisesti suolistoon – ja miten voit kääntää stressin voimavaraksi?<br><br>Näiden lisäksi käsittelen hormonitasapainoa, mitokondrioiden keskeistä roolia energiantuotannossa sekä liikunnan merkitystä. Opetan ymmärrettävästi solutasolla, miten energia syntyy ja miten voit itse vaikuttaa siihen omassa arjessasi.<br><br>Toisin sanoen: saat mukaasi energisen elämän rakennuspalikat.<br><br>Lämpimästi tervetuloa mukaan inspiroitumaan, oivaltamaan ja ottamaan askel kohti vahvempaa elinvoimaa<br><br>Lämmöllä,<br>Paula<br><br>Luennon kesto noin 3h, sis. väliajan<br>Paikat luennolle myydään numeroimattomina.<br>Pidätämme oikeudet muutoksiin.<br><br>Tapahtuman järjestää Mikkelin Mikaeli <br /><br />  Visit event in our website: <a href='https://tapahtumainfo.fi/tapahtuma/2026/10/kadonneen-energisyyden-metsastys-paula-heinonen/431948'>Tapahtumainfo.fi</a></body></html>
END:VEVENT
END:VCALENDAR
