BEGIN:VCALENDAR
VERSION:2.0
PRODID:-//tapahtumainfo.fi//NONSGML Leevi&Leavings Tribuutti//EN
METHOD:REQUEST
BEGIN:VEVENT
UID:20260422T161957-262829489-tapahtumainfo.fi
DTSTAMP:20260422T161957
DTSTART:20260502T180000Z
DTEND:20260502T020000Z
LOCATION:Virta-Sali
SUMMARY:Leevi&Leavings Tribuutti
DESCRIPTION:<html><head></head><body><b>Leevi & the Leavings Tribuutti </b>tarjoilee sulavimmat rytmit ja vauhdikkaimmat kuviot Göstan katalogista. Unohtamatta tietenkään yleisön illan kuumimpia toiveita.<br><br><i>"Kerro terveiset lapsille!"</i> Huusi Kyllikki, kun hyppäsi Teuvon kyytiin ja paineli pimeää tietä pitkin Pohjois-Karjalaan, raparperitaivaan alle.<br><br>Leevi tribuutti bändin kokoonpano on lähtöisin perjantaisten Kaarle XII.n tribute iltojen house bändinä 5 vuotta. Nyt tehdään kaikkein suosituimmalla teemalla keikkoja muuallakin. Nykyään Espanjan Kanarian saaret ja Torreviejan kautta Aurinkorannikko kiertäen.<br><br>Leevi & The Leavings hittikatalogista operoidaan vauhdikas ilta.<br> <br /><br />  Visit event in our website: <a href='https://tapahtumainfo.fi/tapahtuma/2026/05/leevi-leavings-tribuutti/431975'>Tapahtumainfo.fi</a></body></html>
END:VEVENT
END:VCALENDAR
