BEGIN:VCALENDAR
VERSION:2.0
PRODID:-//tapahtumainfo.fi//NONSGML Pulsar Events presents: TIME MACHINE K-18//EN
METHOD:REQUEST
BEGIN:VEVENT
UID:20260420T014050-817805396-tapahtumainfo.fi
DTSTAMP:20260420T014050
DTSTART:20260613T140000Z
DTEND:20260613T020000Z
LOCATION:KULT
SUMMARY:Pulsar Events presents: TIME MACHINE K-18
DESCRIPTION:<html><head></head><body>Tervetuloa aikakoneeseen. <br><br>Kesäkuussa painetaan takaisinkelausnappi pohjaan ja palataan siihen aikaan, kun potkut potkivat eri tavalla, melodiat jäi selkärankaan ja tanssilattialla elettiin eikä kuvattu. Time Machine on yhden päivän kronologinen aikamatka hardstylen juuriin – setti setiltä, klassikko klassikolta. Kaikki artistit, kaikki setit: Classics only. Ei kompromisseja, ei pikakelausta.<br><br>Illan pääesiintyjänä nähdään DJ Thera (NL) – pitkän linjan visionääri, Theracordsin perustaja ja tunnistettavan Klaplongen-tanssityylin isähahmo. Mies, jonka soundi ja asenne ovat muovanneet kokonaisia sukupolvia ja jonka tuotannot kuuluvat niihin raameihin ja arkistoihin, joista tämä koko kulttuuri kasvoi.<br><br>Vaikka moderni hardstyle elää kultakauttaan ja genren suosio on kovempi kuin koskaan, on välillä pakko pysähtyä, katsoa taaksepäin ja nostaa kädet ilmaan sille, mistä kaikki alkoi. Time Machine ei ole vain tapahtuma – se on kunnianosoitus perinteille, yhteisölle ja niille hetkille, kun biisi lähti käyntiin ja tiesit olevasi oikeassa paikassa.<br><br>Ja sitten pieni mutta oleellinen triviatieto: Time Machine on Suomen ensimmäinen 100 % classics-musiikkiin keskittyvä hardstyle-tapahtuma. Kyllä, ihan oikeasti. Ja koska kansa on puhunut (ja valvonut tarpeeksi), niin tämä lysti alkaa vieläpä iltapäivällä. Ei unirytmin pilaamista, ei maanantaista selviytymistä – pelkkää nostalgiaa ja historian havinaa täysissä voimissa auringon vielä paistaessa.<br><br>Hyppää mukaan. Sulje silmät. Avaa sydän.<br><br>Yhdeksi päiväksi – takaisin aikaan, jolloin kaikki tuntui ensimmäiseltä kerralta.<br><br>LINEUP:<br>DJ Thera (NL)<br>Hardstyle Mafia - Spoontech Classics<br>Tykki-T - Reverse Bass Classics<br>BoBB - Fusion Records Special<br>Efialtes - Euphoric Hardstyle Classics<br>Finnishing Dutch - Millennium Hardcore Mayhem<br><br>Kaikki tapahtumaliput ovat samanarvoisia tapahtumassa, mutta Skip The Line -lipulla pääset jonon ohi sisään.<br>Tapahtuma on K18.<br><br>HUOM! KULT ei ole esteetön. Lue lisää <a href="https://kulttuuritalo.fi/kult/kavijalle/" target="_blank">https://kulttuuritalo.fi/kult/kavijalle</a><br><br><br> <br /><br />  Visit event in our website: <a href='https://tapahtumainfo.fi/tapahtuma/2026/06/pulsar-events-presents-time-machine-k-18/432009'>Tapahtumainfo.fi</a></body></html>
END:VEVENT
END:VCALENDAR
