BEGIN:VCALENDAR
VERSION:2.0
PRODID:-//tapahtumainfo.fi//NONSGML Kuumia aaltoja (K-18)//EN
METHOD:REQUEST
BEGIN:VEVENT
UID:20260423T090001-418677351-tapahtumainfo.fi
DTSTAMP:20260423T090001
DTSTART:20260808T180000Z
DTEND:20260808T020000Z
LOCATION:Riihimäen Kesäteatteri
SUMMARY:Kuumia aaltoja (K-18)
DESCRIPTION:<html><head></head><body>Toisilleen tuntemattomat Anne A. ja Anne P. ovat tulleet karaokebaariin viettämään iltaa. Karaokeillan aikana sielunsiskot nauravat itselleen ja toisilleen, kiroavat niin kuumat aallot kuin ikänäönkin sekä herkistyvät hetkeksi menneiden äärelle.<br><br>Välillä vetäistään korkkarit kattoon ja vallataan karaokelava oikein kunnolla – sitä vartenhan paikalle on tultu. ​<br><br>Luvassa on hillitöntä meininkiä, häpeilemätöntä ylistystä keski-iälle, ystävyydelle ja vapaudelle.<br><br>Tämä on koettava itse! Kesto: n. 2 h (sis. väliajan)<br><br>*K-18 -merkityissä esityksissä anniskeluoikeus ulottuu teatterisalin puolelle eli Teatterihotellin baarista ostetut juomat voi nauttia myös katsomossa. Esitykset ovat tästä syystä ikärajattuja. <br /><br />  Visit event in our website: <a href='https://tapahtumainfo.fi/tapahtuma/2026/08/kuumia-aaltoja-k-18/432166'>Tapahtumainfo.fi</a></body></html>
END:VEVENT
END:VCALENDAR
