BEGIN:VCALENDAR
VERSION:2.0
PRODID:-//tapahtumainfo.fi//NONSGML PARI SANAA PARISUHTEESTA//EN
METHOD:REQUEST
BEGIN:VEVENT
UID:20260423T130543-2062382075-tapahtumainfo.fi
DTSTAMP:20260423T130543
DTSTART:20260425T183000Z
DTEND:20260425T020000Z
LOCATION:TTT-Klubi
SUMMARY:PARI SANAA PARISUHTEESTA
DESCRIPTION:<html><head></head><body>Esitys on Ilkka Heiskasen kirjoittama monologi, jossa komedian keskiössä on<br>varsin<br>tavallinen suomalainen mies.<br><br>Tapio eli ystävien kesken Tapi on 61 vuotias. Hän on myös taitava nakuttelija.<br>Kumivasaraa ja talttaa apuna käyttäen hänen käsissään valmistuu kädenkäänteessä<br>ryhdikäs luumukuppi! Tapin verbaliikka on kehittynyt autotallissa vietettyjen<br>harrastusten parissa ihmeen tarkaksi. Myös monivuotinen avioliitto on viime<br>aikoina alkanut tuoda hänen eteensä aprikoitavaa.<br><br>Esitys on alusta loppuun asti ”hand made by Ilu”, sillä Ilkka toimii sekä<br>esityksen käsikirjoittajana, ohjaajana, lavastajana, pukusuunnittelijana, että<br>näyttelijänä.<br> <br /><br />  Visit event in our website: <a href='https://tapahtumainfo.fi/tapahtuma/2026/04/pari-sanaa-parisuhteesta/432169'>Tapahtumainfo.fi</a></body></html>
END:VEVENT
END:VCALENDAR
