BEGIN:VCALENDAR
VERSION:2.0
PRODID:-//tapahtumainfo.fi//NONSGML VIP Eventum Gameday 8 - CEV EuroVolley 2026 - Tampere//EN
METHOD:REQUEST
BEGIN:VEVENT
UID:20260421T075820-1916296953-tapahtumainfo.fi
DTSTAMP:20260421T075820
DTSTART:20260917T170000Z
DTEND:20260917T020000Z
LOCATION:Nokia Arena
SUMMARY:VIP Eventum Gameday 8 - CEV EuroVolley 2026 - Tampere
DESCRIPTION:<html><head></head><body> <br /><br />  Visit event in our website: <a href='https://tapahtumainfo.fi/tapahtuma/2026/09/vip-eventum-gameday-8-cev-eurovolley-2026-tampere/432258'>Tapahtumainfo.fi</a></body></html>
END:VEVENT
END:VCALENDAR
