BEGIN:VCALENDAR
VERSION:2.0
PRODID:-//tapahtumainfo.fi//NONSGML NOKIA ARENA AITIOT: CEV EuroVolley 2026 - Tampere//EN
METHOD:REQUEST
BEGIN:VEVENT
UID:20260421T075739-2093785008-tapahtumainfo.fi
DTSTAMP:20260421T075739
DTSTART:20260918T000000Z
DTEND:20260918T020000Z
LOCATION:Nokia Arena
SUMMARY:NOKIA ARENA AITIOT: CEV EuroVolley 2026 - Tampere
DESCRIPTION:<html><head></head><body> <br /><br />  Visit event in our website: <a href='https://tapahtumainfo.fi/tapahtuma/2026/09/nokia-arena-aitiot-cev-eurovolley-2026-tampere/432259'>Tapahtumainfo.fi</a></body></html>
END:VEVENT
END:VCALENDAR
