BEGIN:VCALENDAR
VERSION:2.0
PRODID:-//tapahtumainfo.fi//NONSGML Johtajuuden aika - kasvua ja karsimista//EN
METHOD:REQUEST
BEGIN:VEVENT
UID:20260424T110155-2005031978-tapahtumainfo.fi
DTSTAMP:20260424T110155
DTSTART:20261010T100000Z
DTEND:20261010T020000Z
LOCATION:Mikael Agricolan kirkko
SUMMARY:Johtajuuden aika - kasvua ja karsimista
DESCRIPTION:<html><head></head><body><b>Johtajuuden aika - kasvua ja karsimista</b><br><br>-Kaipaatko inspiraatiota johtajuuteesi ja virkistävää yhteyttä upean livemusiikin säestämänä?<br>-Haluatko löytää kestävää tahtia ja tasapainoa elämääsi?<br>-Jos et koe itseäsi johtajaksi tai vaikuttajaksi, olisiko nyt aika kasvaa johtajuudessa?<br><br>Kristillinen johtajuusverkosto Team Lydia kutsuu 10-vuotisjuhlaseminaariinsa ja konserttiin<br>Aika: Lauantai 10.10.2026 klo 10:00-17:00.<br>Aamukahvia tarjolla klo 09:15 alkaen.<br>Paikka: Mikael Agricolan kirkko, Tehtaankatu 23, 00150 Helsinki.<br><br>Tapahtuman juontaa Ylen ulkomaantoimittaja ja uutisjuontaja <b>Hanna Visala</b>.<br><br>Seminaarin pääpuhujat:<br>o THE KEY NOTE SPEAKER, CEO ja toisen polven yrittäjä <b>Annastiina Hintsa</b>, joka työskenneltyään ylimmän johdon konsulttina ja koettuaan burnoutin siirtyi johtamaan isänsä Aki Hintsan perustamaa Hintsa Performance-yhtiötä.<br>o Suurlähettiläs <b>Kirsikka Lehto</b> on toiminut Israelin suurlähettiläänä vuosina 2019-2023 ja siirtyi Suomen Pariisin suurlähetystön johtoon syyskuussa 2025.<br>o Psykologi, kirjailija <b>Satu Lähteenkorva</b> on rohkea ja käytännönläheinen psykologi, joka tunnetaan valtakunnallisesti hyvinvoinnin ja elintapaohjauksen eturivin kouluttajana ja kehittäjänä.<br><br>Lyhyiden puheenvuorojen esittäjät:<br>o Viestintäjohtaja, yrittäjä, tietokirjailija <b>Unna Lehtipuu</b><br>o Laulaja-lauluntekijä <b>BELLANI</b> eli <b>Ella Honkanen</b>, joka myös esittää kaksi laulua<br>o Kirjailija<b> Laura Suomela</b><br>o Henkilöstön kehittämisjohtaja <b>Sanna-Mari Myllynen</b><br>o Yrittäjä <b>Eva Haapala</b><br><br>Seminaarin päättää KONSERTTI, jossa esiintyy:<br>o <b>Hanna-Maria Helenius</b> Higher Ground Vocalsin ja pianisti, jazz saksofonisti <b>Joonatan Raution</b> kanssa!<br><br>Lahjoitamme osan tapahtuman tuotosta Diakonissalaitoksen VAMOS nuortenpalveluun syrjäytymisvaarassa olevien nuorten auttamiseksi.<br><br>Tapahtuman järjestää kristillinen johtajuusverkosto Team Lydia. TEAM LYDIA – tukijoukko Sinulle! Team Lydia on kristillinen johtajuusverkosto naisille. Lydian missio on kannustaa, tukea ja varustaa naisjohtajia, -vaikuttajia ja -yrittäjiä. Lydian näky on parempi työelämä. Lisätiedot: lydiatiimi@gmail.com<br><br>Liput (hintoihin lisätään lippu.fi:n tilausmaksut)<br>Pääsylippu 78 € (sis. aloituskahvi + kakkukahvit iltapäivällä)<br>Pääsylippu 98€ (sis. aloituskahvi, lounas, kakkukahvit iltapäivällä)<br>VIP-lippu 160 € (sis. aloituskahvi, lounas ja kakkukahvit iltapäivällä, istumapaikka eturiveistä)<br>Ostamalla VIP-lipun tuet Team Lydiaa ja VAMOS-toimintaa)<br><br><br> <br /><br />  Visit event in our website: <a href='https://tapahtumainfo.fi/tapahtuma/2026/10/johtajuuden-aika-kasvua-ja-karsimista/432295'>Tapahtumainfo.fi</a></body></html>
END:VEVENT
END:VCALENDAR
