BEGIN:VCALENDAR
VERSION:2.0
PRODID:-//tapahtumainfo.fi//NONSGML Laaksojen soittajat - Kuplivaa kevättä//EN
METHOD:REQUEST
BEGIN:VEVENT
UID:20260422T205138-47369561-tapahtumainfo.fi
DTSTAMP:20260422T205138
DTSTART:20260430T190000Z
DTEND:20260430T020000Z
LOCATION:Kulttuurikeskus Akustiikka
SUMMARY:Laaksojen soittajat - Kuplivaa kevättä
DESCRIPTION:<html><head></head><body>Konsertissa kuullaan niin sinfonista puhallinmusiikkia, suomalaisia säveliä sekä tunnelmia Järnefeltin herkästä sävelrunosta Aamulla varhain. Vastapainoksi konsertti kuplii viihteellisemmillä sävelillä: Luvassa ovat esimerkiksi Ranskalaiset korot, Myrskyluodon Maija, Koiviston polska ja tietenkin vapputunnelmaan täydellisesti sopiva Vaaleanpunaista shamppanjaa. Orkesterin kapellimestarina toimii Mikko Hannula. Nosta mieli kevääseen ja anna musiikin kuplia. Hyvää Vappua! <br /><br />  Visit event in our website: <a href='https://tapahtumainfo.fi/tapahtuma/2026/04/laaksojen-soittajat-kuplivaa-kevatta/432373'>Tapahtumainfo.fi</a></body></html>
END:VEVENT
END:VCALENDAR
