BEGIN:VCALENDAR
VERSION:2.0
PRODID:-//tapahtumainfo.fi//NONSGML ANI//EN
METHOD:REQUEST
BEGIN:VEVENT
UID:20260425T133626-769084501-tapahtumainfo.fi
DTSTAMP:20260425T133626
DTSTART:20260508T190000Z
DTEND:20260508T020000Z
LOCATION:Kulttuuritalo Martinus
SUMMARY:ANI
DESCRIPTION:<html><head></head><body> <br /><br />  Visit event in our website: <a href='https://tapahtumainfo.fi/tapahtuma/2026/05/ani/432379'>Tapahtumainfo.fi</a></body></html>
END:VEVENT
END:VCALENDAR
