BEGIN:VCALENDAR
VERSION:2.0
PRODID:-//tapahtumainfo.fi//NONSGML Martín Alvarado ja Milongan huuma//EN
METHOD:REQUEST
BEGIN:VEVENT
UID:20260419T152532-260699461-tapahtumainfo.fi
DTSTAMP:20260419T152532
DTSTART:20260502T190000Z
DTEND:20260502T020000Z
LOCATION:Nuutajärven Lasikylä
SUMMARY:Martín Alvarado ja Milongan huuma
DESCRIPTION:<html><head></head><body><b>Konsertti lauantaina 2.5.2026 Nuutajärven Lasikylässä</b><br><br>Maailmanlaajuisesti ylistetty argentiinalainen tangolaulaja <b>Martín Alvarado</b> saapuu Suomeen ainutlaatuiselle konsertille. Häntä on kutsuttu <i>Buenos Airesin parhaaksi ääneksi ja tangon 2000‑luvun ääneksi</i>, eikä syyttä: Alvaradon lämmin, ilmaisuvoimainen tenori ja karismaattinen lavaolemus tekevät jokaisesta esityksestä unohtumattoman.<br><br>Konsertissa kuullaan sekä klassisia tangohelmiä että Alvaradon omia tulkintoja, joissa yhdistyvät perinteinen tango ja modernit vaikutteet. <br /><br />  Visit event in our website: <a href='https://tapahtumainfo.fi/tapahtuma/2026/05/mart-n-alvarado-ja-milongan-huuma/432404'>Tapahtumainfo.fi</a></body></html>
END:VEVENT
END:VCALENDAR
