BEGIN:VCALENDAR
VERSION:2.0
PRODID:-//tapahtumainfo.fi//NONSGML Monte Criston kreivi//EN
METHOD:REQUEST
BEGIN:VEVENT
UID:20260425T190843-1973311864-tapahtumainfo.fi
DTSTAMP:20260425T190843
DTSTART:20261126T180000Z
DTEND:20261126T020000Z
LOCATION:Tampereen Teatteri Päänäyttämö
SUMMARY:Monte Criston kreivi
DESCRIPTION:<html><head></head><body> <br /><br />  Visit event in our website: <a href='https://tapahtumainfo.fi/tapahtuma/2026/11/monte-criston-kreivi/432420'>Tapahtumainfo.fi</a></body></html>
END:VEVENT
END:VCALENDAR
