BEGIN:VCALENDAR
VERSION:2.0
PRODID:-//tapahtumainfo.fi//NONSGML Täydellinen lauantai//EN
METHOD:REQUEST
BEGIN:VEVENT
UID:20260426T021333-1831006125-tapahtumainfo.fi
DTSTAMP:20260426T021333
DTSTART:20261107T130000Z
DTEND:20261107T020000Z
LOCATION:Tampereen Teatteri, FRENCKELL-NÄYTTÄMÖ
SUMMARY:Täydellinen lauantai
DESCRIPTION:<html><head></head><body> <br /><br />  Visit event in our website: <a href='https://tapahtumainfo.fi/tapahtuma/2026/11/taydellinen-lauantai/432443'>Tapahtumainfo.fi</a></body></html>
END:VEVENT
END:VCALENDAR
