BEGIN:VCALENDAR
VERSION:2.0
PRODID:-//tapahtumainfo.fi//NONSGML Rakkauden riskipisnes//EN
METHOD:REQUEST
BEGIN:VEVENT
UID:20260419T235404-935320518-tapahtumainfo.fi
DTSTAMP:20260419T235404
DTSTART:20260615T190000Z
DTEND:20260615T020000Z
LOCATION:Krekilän Myllyn Kesäteatteri
SUMMARY:Rakkauden riskipisnes
DESCRIPTION:<html><head></head><body>Rikkauden ja rakkauden tuulet puhaltavat Krekilän Myllyn pihapiirissä kesäkuussa kun viimekesäisen näytelmän itsenäinen jatko-osa Rakkauden Riskipisnes saapuu ensi-iltaan. Tulevassa kantaesityksessä niin vanhat kuin uudetkin asukkaat kokevat hulvattomia tilanteita, jännittäviä hetkiä ja suuria paljastuksia. Viime kesänä perustetun tislaamon arki on alkanut pyöriä lähes omalla painollaan, mutta miten käy kun ulkopuolinen taho kiinnostuu sen menestyksestä? Entä pääseekö kylän viisain juoruakka Mirjami vihdoin rakkauden auvoisaan satamaan? Ja miten Aila ja Eino sopeutuvat uuteen elämänmuutokseen? Ripaus romantiikkaa, hyppysellinen yllättäviä käänteitä ja rahtunen väärinkäsityksiä saa tämän sopan kiehumaan äärilaidoilleen! <br /><br />  Visit event in our website: <a href='https://tapahtumainfo.fi/tapahtuma/2026/06/rakkauden-riskipisnes/432476'>Tapahtumainfo.fi</a></body></html>
END:VEVENT
END:VCALENDAR
