BEGIN:VCALENDAR
VERSION:2.0
PRODID:-//tapahtumainfo.fi//NONSGML Auliksen klubi-ilta: Antti Reini//EN
METHOD:REQUEST
BEGIN:VEVENT
UID:20260422T191234-1993104400-tapahtumainfo.fi
DTSTAMP:20260422T191234
DTSTART:20270320T210000Z
DTEND:20270320T020000Z
LOCATION:Oulun teatteri, Näköalaravintola Aulis
SUMMARY:Auliksen klubi-ilta: Antti Reini
DESCRIPTION:<html><head></head><body> <br /><br />  Visit event in our website: <a href='https://tapahtumainfo.fi/tapahtuma/2027/03/auliksen-klubi-ilta-antti-reini/432531'>Tapahtumainfo.fi</a></body></html>
END:VEVENT
END:VCALENDAR
