BEGIN:VCALENDAR
VERSION:2.0
PRODID:-//tapahtumainfo.fi//NONSGML Arppa & Jiri-serkku: Iltamat Pihlajassa K-18//EN
METHOD:REQUEST
BEGIN:VEVENT
UID:20260425T133732-394806699-tapahtumainfo.fi
DTSTAMP:20260425T133732
DTSTART:20260508T200000Z
DTEND:20260508T020000Z
LOCATION:Ravintola Torvi
SUMMARY:Arppa & Jiri-serkku: Iltamat Pihlajassa K-18
DESCRIPTION:<html><head></head><body> <br /><br />  Visit event in our website: <a href='https://tapahtumainfo.fi/tapahtuma/2026/05/arppa-jiri-serkku-iltamat-pihlajassa-k-18/432635'>Tapahtumainfo.fi</a></body></html>
END:VEVENT
END:VCALENDAR
