BEGIN:VCALENDAR
VERSION:2.0
PRODID:-//tapahtumainfo.fi//NONSGML Naantalin Musiikkijuhlat 2026 EI KULTARANTAA RAKKAAMPAA//EN
METHOD:REQUEST
BEGIN:VEVENT
UID:20260420T000455-1137869102-tapahtumainfo.fi
DTSTAMP:20260420T000455
DTSTART:20260613T140000Z
DTEND:20260613T020000Z
LOCATION:Kultarannan puutarha
SUMMARY:Naantalin Musiikkijuhlat 2026 EI KULTARANTAA RAKKAAMPAA
DESCRIPTION:<html><head></head><body>Naantalin Musiikkijuhlien perinteinen Kultarannan konsertti on suunniteltu tasavallan presidentti Alexander Stubbin innoittamana. Luvassa on siis genrejen huippukokous, jonka voi tiivistää kolmeen pointtiin: klassisen musiikin ikuisia hittejä, kullanhohtoista jazzia ja rakastettua elokuvamusiikkia. Toisin sanottuna: Musiikkijuhlien jousitaiteilijat esittävät Felix Mendelssohnia ja Grazyna Bacewiczia, lauluyhtye Rajattomastakin tunnettu, sielukas Aili Ikonen tulkitsee Ella Fitzgeraldin suosikkeja yhdessä Turku Jazz Orchestran kanssa, ja loput selviää viimeistään paikanpäällä! Tätä konserttia ei pidä missata.<br><br><b>Janne Malmivaara</b>, viulu<br><b>Aino Mattila</b>, viulu<br><b>Leea Mattila</b>, viulu<br><b>Katri Mettänen</b>, viulu<br><b>Albert Sahlström</b>, viulu<br><b>Vilma Tikkanen</b>, viulu<br><b>Elina Vähälä</b>, viulu<br><b>Anna Kreetta Gribajcevic</b>, alttoviulu<br><b>Ingrid Odé</b>, alttoviulu<br><b>Selja Hakamies</b>, sello<br><b>Tuomas Lehto</b>, sello<br><b>Saima Malmivaara</b>, sello<br><b>Leevi Pelli</b>, sello<br><b>Taika Puhakka</b>, sello<br><b>Oscar Schultz</b>, sello<br><b>Ruth Steudle</b>, sello<br><b>Tuomas Ylinen</b>, sello<br><br><b>Aili Ikonen</b>, laulu<br><b>Turku Jazz Orchestra</b><br><b>Vellu Halkosalmi</b>, kapellimestari <br /><br />  Visit event in our website: <a href='https://tapahtumainfo.fi/tapahtuma/2026/06/naantalin-musiikkijuhlat-2026-ei-kultarantaa-rakkaampaa/432669'>Tapahtumainfo.fi</a></body></html>
END:VEVENT
END:VCALENDAR
