BEGIN:VCALENDAR
VERSION:2.0
PRODID:-//tapahtumainfo.fi//NONSGML Ennen kuin mieheni katoaa//EN
METHOD:REQUEST
BEGIN:VEVENT
UID:20260424T034853-1962078002-tapahtumainfo.fi
DTSTAMP:20260424T034853
DTSTART:20261113T183000Z
DTEND:20261113T020000Z
LOCATION:TTT Kellariteatteri
SUMMARY:Ennen kuin mieheni katoaa
DESCRIPTION:<html><head></head><body> <br /><br />  Visit event in our website: <a href='https://tapahtumainfo.fi/tapahtuma/2026/11/ennen-kuin-mieheni-katoaa/432757'>Tapahtumainfo.fi</a></body></html>
END:VEVENT
END:VCALENDAR
