BEGIN:VCALENDAR
VERSION:2.0
PRODID:-//tapahtumainfo.fi//NONSGML Homma Ranskassa//EN
METHOD:REQUEST
BEGIN:VEVENT
UID:20260423T125759-798432700-tapahtumainfo.fi
DTSTAMP:20260423T125759
DTSTART:20260926T183000Z
DTEND:20260926T020000Z
LOCATION:TTT Eino Salmelaisen näyttämö
SUMMARY:Homma Ranskassa
DESCRIPTION:<html><head></head><body>Homma Ranskassa<br><br>Pohjoismaiden kantaesitys 2.9.2026 Eino Salmelaisen näyttämöllä<br><br>Uusi ovela komedia näyttää manipuloinnin mestarin pulassa. Poliittinen neuvonantaja on tilannut sijaisnäyttelijät perheillalliselle, mutta homma ei pysykään hyppysissä, sillä näyttelijät osoittautuvat oikukkaiksi. Kuka saa esittää tytärtä, kuka miniää – miten roolikortit jaetaan?  Ja miksi ollaan koolla, mikä on lopulta totta patriarkka Paul-Henrin oikeassa perheessä? Salaisuudet paljastuvat kerros kerrokselta kuin herkullinen sipuli.<br><br>Homma Ranskassa on taiturimaisen juonenkuljettajan juhlaa. Se on samalla kuvaus näyttelijäntyöstä ja näyttelijän elämästä. Epävarmuuksista, narsismista, paineista, metodeista, uskollisuudesta taiteelle ja paremmista keikoista. Posketon puutarhaillallinen lataa jatkuvasti ylitsevuotavaisia maljoja!<br><br><i>Homma Ranskassa</i> (Le retour de Richard 3 par le train de 9h24) oli ehdokkaana Ranskan teatterialan komediapalkinnon saajaksi vuonna 2023 (Molière Award for Best Comedy). <br /><br />  Visit event in our website: <a href='https://tapahtumainfo.fi/tapahtuma/2026/09/homma-ranskassa/432770'>Tapahtumainfo.fi</a></body></html>
END:VEVENT
END:VCALENDAR
