BEGIN:VCALENDAR
VERSION:2.0
PRODID:-//tapahtumainfo.fi//NONSGML Tyyne Kettunen//EN
METHOD:REQUEST
BEGIN:VEVENT
UID:20260423T065047-285669993-tapahtumainfo.fi
DTSTAMP:20260423T065047
DTSTART:20261210T183000Z
DTEND:20261210T020000Z
LOCATION:TTT Kellariteatteri
SUMMARY:Tyyne Kettunen
DESCRIPTION:<html><head></head><body> <br /><br />  Visit event in our website: <a href='https://tapahtumainfo.fi/tapahtuma/2026/12/tyyne-kettunen/432801'>Tapahtumainfo.fi</a></body></html>
END:VEVENT
END:VCALENDAR
