BEGIN:VCALENDAR
VERSION:2.0
PRODID:-//tapahtumainfo.fi//NONSGML Rohkeasti reunalla -stadionkonsertti//EN
METHOD:REQUEST
BEGIN:VEVENT
UID:20260426T021714-737483388-tapahtumainfo.fi
DTSTAMP:20260426T021714
DTSTART:20260513T180000Z
DTEND:20260513T020000Z
LOCATION:Raksilan pesäpallostadion
SUMMARY:Rohkeasti reunalla -stadionkonsertti
DESCRIPTION:<html><head></head><body>Keskiviikkona 13.5.2026 Oulun Pesäpallostadionilla tärähtää Oulun kaikkien musiikkiluokkien ja Madetojan musiikkilukion kaikkien aikojen suurin ja mahtavin konsertti "Rohkeasti reunalla", jossa oululainen musiikkiluokkapolku näyttäytyy kokonaisuudessaan. Kutsumme konsertteihimme kaikkia koululaisia, oululaisia ja Oulussa vierailevia musiikin ystäviä.<br><br>Konserteissa loistavat esiintyjinä Oulun perusopetuksen 3. - 9. musiikin erikoisluokkien ja Madetojan musiikkilukion oppilaat vaihtelevissa kokoonpanoissa. Mukana konsertissa ovat myös upeat oululaislähtöiset tähtiartistit Suvi Teräsniska ja Niko Vilhelm Moilanen ja Joonas Porko Blind Channel - yhtyeestä.<br><br>Musiikkiluokkalaisten Oulun kulttuurivuodelle järjestämän konserttisarjan päättävä stadionkonsertti tuo esiin oululaisten lasten ja nuorten osaamista, tarjoaa esiintymiskokemuksia sekä levittää musiikin ilosanomaa myös paikkoihin, joissa konsertteja on järjestetty harvemmin. Samalla se tutustuttaa oululaiset kuulijat ja kulttuurikaupunkivieraat entistä paremmin musiikkiluokkien ylläpitämään merkittävään osaan oululaista lastenkulttuuria ja perinnettä.<br><br>Tapahtuma järjestetään osana oululaisten musiikkiluokkien Rohkeasti reunalla - konserttisarjaa, joka tuo oululaisen upean musiikkiluokkapolun ennen näkemättömällä tavalla esille jokaiselle oululaiselle kuulijalle eri puolilla Oulua. Tapahtuman järjestää alakoulun musiikkiluokkien tukiyhdistys Nuottiniekat ry yhteistyössä Oulun musiikkiluokkien ja Madetojan musiikkilukion kanssa.<br><br>Yleisöä pyydetään saapumaan paikalle julkista liikennettä ja pyöriä hyödyntäen. Pysäköintipaikkoja löytyy tarvittaessa Ouluhallilta. Pysäköinti Ouluhallilla on maksuton, mutta ruuhkautuu nopeasti. <br /><br />  Visit event in our website: <a href='https://tapahtumainfo.fi/tapahtuma/2026/05/rohkeasti-reunalla-stadionkonsertti/432840'>Tapahtumainfo.fi</a></body></html>
END:VEVENT
END:VCALENDAR
