BEGIN:VCALENDAR
VERSION:2.0
PRODID:-//tapahtumainfo.fi//NONSGML Niskavuoren Heta//EN
METHOD:REQUEST
BEGIN:VEVENT
UID:20260423T042533-362337947-tapahtumainfo.fi
DTSTAMP:20260423T042533
DTSTART:20260918T180000Z
DTEND:20260918T020000Z
LOCATION:Lappeenrannan kaupunginteatteri, suuri näyttämö
SUMMARY:Niskavuoren Heta
DESCRIPTION:<html><head></head><body>Hella Wuolijoki<br><b>NISKAVUOREN HETA</b><br><br>Miten koemme yhteisön paineet ja kenen vuoksi elämme?<br><br>Niskavuoren kunnianhimoinen esikoistytär Heta on raskaana ja rakastettunsa hylkäämä. Tulevaisuudenkuva kartanonrouvana on murskattu ja ympäröivän yhteisön paine ahdistaa. Hän ottaa puolisokseen Niskavuoren rengin Akustin ja alkaa ankaralla raadannalla rakentaa Muumäestä suurtilaa. Tarve näyttää ja pärjätä karsii Hetasta hiljalleen inhimillisyyden ja uuvuttaa Akustin.<br><br>Samaan aikaan maailma myllertyy sodissa ja uusissa aatteissa. Naisen asema on kuitenkin edelleen sidottu mieheen. Muuttuuko Hetan kunnianhimo ahneudeksi ja kiukuksi, kun todellista valtaa omaan elämään ei ole?<br><br>Niskavuoren Heta on suuri näytelmä hämmästyttävästä, monisyisestä ja voimakkaasta naisesta sekä hänen kanssaan elävistä ihmisistä ja valinnoista, joista ei voi peruuttaa.<br><br>Näytelmä: Hella Wuolijoki<br><br>Sovitus ja ohjaus: Helka-Maria Kinnunen<br><br>Puvustus ja lavastus: Mimmi Resman<br><br>Liikedramaturgia: Antti Silvennoinen <br /><br />  Visit event in our website: <a href='https://tapahtumainfo.fi/tapahtuma/2026/09/niskavuoren-heta/432876'>Tapahtumainfo.fi</a></body></html>
END:VEVENT
END:VCALENDAR
