BEGIN:VCALENDAR
VERSION:2.0
PRODID:-//tapahtumainfo.fi//NONSGML Las Palmas Live: Kerza K-18//EN
METHOD:REQUEST
BEGIN:VEVENT
UID:20260420T095441-1563367857-tapahtumainfo.fi
DTSTAMP:20260420T095441
DTSTART:20260502T235500Z
DTEND:20260502T020000Z
LOCATION:Las Palmas Hämeenlinna
SUMMARY:Las Palmas Live: Kerza K-18
DESCRIPTION:<html><head></head><body><h1><b>KERZA</b></h1><p>Supersuosiota omassa genressään kerryttävä <b>KERZA</b> on vakiinnuttanut paikkansa suomirap-yleisön suosikkina määrätietoisuudellaan ja tunnistettavalla äänellään. Rap-artistin intohimo musiikkiin ja sen parissa työskentelyyn on huomionarvoista. Vuosien aikana hän on rakentanut omaleimaisen katalogin lukuisten listahittien, feattien ja miljoonien striimien siivittämänä.</p> <br /><br />  Visit event in our website: <a href='https://tapahtumainfo.fi/tapahtuma/2026/05/las-palmas-live-kerza-k-18/432883'>Tapahtumainfo.fi</a></body></html>
END:VEVENT
END:VCALENDAR
