BEGIN:VCALENDAR
VERSION:2.0
PRODID:-//tapahtumainfo.fi//NONSGML Tatun ja Patun ihmeellinen joulu//EN
METHOD:REQUEST
BEGIN:VEVENT
UID:20260424T122118-2029626102-tapahtumainfo.fi
DTSTAMP:20260424T122118
DTSTART:20261220T130000Z
DTEND:20261220T020000Z
LOCATION:Tampereen Komediateatteri Päänäyttämö
SUMMARY:Tatun ja Patun ihmeellinen joulu
DESCRIPTION:<html><head></head><body>Tatun ja Patun ihmeellinen joulu on <b>Aino Havukaisen</b> ja <b>Sami Toivosen</b> tekemään Suomen suosituimpaan lasten kirjasarjaan perustuva näytelmä koko perheelle.<br><br>Tatu ja Patu tulevat viettämään joulua Veeran kotiin – tai ainakin hyvin lähelle. Outolan omalaatuiset veljekset aloittavat jouluun laskeutumisen tutustumalla joulun ihmeellisyyksiin: tonttulaatikon valmistamiseen, lahjoja tuovaan joulukuuseen sekä tuoreeseen, tuuheaan, huolella kasteltavaan ja tiheäpartaiseen joulupukkiin. Mutta kuka on tuo salaperäinen, punapipoinen mies? Ei kai vain… tonttu?<br><br>Piparitaikinan sotkuinen ja musiikilla ladattu esitys vie katsojat takuuhauskalle matkalle Tatun ja Patun matkaan sekä tarjoaa taatusti iloista jouluströsseliä kaikenikäisille.<br><br>Ohjaus <b>Janne Jämsä</b><br>Sovitus <b>Sami Rannila</b><br>Lavastus <b>Janne Jämsä</b> ja <b>Panu Raipia</b><br><br>Kesto. n 45 min, ei väliaikaa<br><br>Hinnat:<br><br>Peruslippu 26,50 €<br>Opiskelija/lapsi 23,50 €<br>Perhelippu (min. 4 hlöä) 22,50 €<br><br>Ryhmä min. 20 lippua 21,50 €<br>Ryhmät min. 50 lippua 20,50 €<br><br><b>Pyörätuolipaikat</b><br>Saliin pääsee pyörätuolilla. Pyörätuoli- ja avustajaliput myydään vain Komediateatterin Lipputoimistosta ja Kulttuurimyymälä Aplodista!<br><br><b>Joustolippu</b> Viiden euron lisähinnalla voi ostaa joustolipun. Joustolippu oikeuttaa vaihtamaan lipun samanhintaisen hintaryhmän lippuun vielä esitystä edeltävänä päivänä ilman vaihtomaksua.<br>Vaihtomaksu ilman joustoa 10€/lippu.<br><br><b>Ryhmät</b><br>Ryhmien lippu- ja ruokailuvaraukset vain Komediateatterin Lipputoimistosta puh. 0207 288 388.<br>Ryhmäalennukset ja -ruokailut yli 20 hengen ryhmille.<br><br> <br /><br />  Visit event in our website: <a href='https://tapahtumainfo.fi/tapahtuma/2026/12/tatun-ja-patun-ihmeellinen-joulu/432940'>Tapahtumainfo.fi</a></body></html>
END:VEVENT
END:VCALENDAR
