BEGIN:VCALENDAR
VERSION:2.0
PRODID:-//tapahtumainfo.fi//NONSGML Sirkka Show K18//EN
METHOD:REQUEST
BEGIN:VEVENT
UID:20260425T190303-1564766985-tapahtumainfo.fi
DTSTAMP:20260425T190303
DTSTART:20261126T183000Z
DTEND:20261126T020000Z
LOCATION:Komediateatterin Palatsi
SUMMARY:Sirkka Show K18
DESCRIPTION:<html><head></head><body><b>Sirkka Show – K18</b><br><br>Kummeli esittää:<br>Kontio & Parmas -sarjasta tuttu patologi ja terveyskeskuslääkäri Sirkka Pohjantalo on saanut oman shown.<br>Vallitsevien säästötoimenpiteiden ja irtisanomisten sisuunnuttama Sirkka on kehittänyt metodin TRT eli Tehostettu Ratkaisukeskeinen Terveyspalvelu: Jos hoitajia ja lääkäreitä voidaan irtisanoa, pitää voida irtisanoa myös potilaita.<br><br>Sirkka kiertää nyt luennoimassa metodiaan varsin voimakkain mielipitein kera avustajansa, Jussi-palkitun muusikko-näyttelijä, Heikki Helan. Esityksessä käydään läpi erilaisia potilastilanteita ja kuullaan suoraa puhetta Sotesta - kaikki tietysti Sirkan tyyliin.<br><br>Lavalla vilahtelee tuttuja kasvoja Kymäläisen ämmästä Hurttaan ja kuullaanpa illan aikana muutamia Sirkan hittibiisejäkin. Tämä esitys ei jätä ketään kylmäksi. Vaikka Sirkka patologina niin toivoisikin.<br><br>Esityksen kulku Illan aluksi saamme nauttia stand up -komiikan helmiä. Joka Sirkka showssa on vaihtuva koomikko. Ohessa luettelo.<br><br>Väliaika - sopiva hetki täyttää lasit!<br><br>Sirkka Show alkaa!<br><br>Sirkka Showssa vierailevat koomikot:<br>La 29.8. Anitta Ahonen<br>Ke 4.11. Arimo Mustonen<br>Ke 18.11. Riku Suokas<br>To 26.11. Antti Haapala<br><br>Esityksen kesto n. 1 h 30min sis. väliajan<br><b><br>Hinnat</b>:<br>Peruslippu 43 €<br>Eläkeläinen 41 €<br>Opiskelija + 18–25 v. 35 €<br>Työtön 38 €<br><br><br>Ryhmä min. 20 lippua 40 €<br>Ryhmä min. 50 lippua 39 €<br><br>Show & Dinner -liput myös yksittäisille katsojille:<br>Show & Dinner LIHA / KASVIS 87 €<br>Show & Dinner LIHA / KASVIS min. 20 lippua 82 €<br>Show & Dinner min. 50 lippua 79 €<br><br><b>Aitiolipun hinnat: </b><br>Aitio 1–4 henkilöä 210 € sis. vaatesäilytysmaksun<br>Aitio 1–4 henkilöä Show & Dinner LIHA/KASVIS 386 € sis. vaatesäilytysmaksun<br><br>Parvekeaitio 1–2 henkilöä 110 € sis. vaatesäilytysmaksun<br>Parvekeaitio 1–4 henkilöä 200 € sis. vaatesäilytysmaksun<br><br>Parvekeaitio 1–2 henkilöä Show & Dinner LIHA/KASVIS 198 € sis. vaatesäilytysmaksun<br>Parvekeaitio 1–4 henkilöä Show & Dinner LIHA/KASVIS 376 € sis. vaatesäilytysmaksun<br><br>Show & Dinner -paketti, ruokailu klo 17 alkaen, esitys klo 18:30<br>Valittavissa on liha tai kasvisvaihtoehto.<br>Show & Dinner -paketeissa pöytäpaikat ja yhteispöydät, jolloin saatamme sijoittaa pöytiin useampia seurueita.<br>Saman tilauksen liput sijoitetaan aina samaan pöytään. Jos liput on ostettu eri tilauksissa, emme valitettavasti voi taata yhteistä pöytää tai vierekkäisiä paikkoja.<br>Isot seurueet pyritään sijoittamaan vierekkäisiin pöytiin aina kun se on mahdollista.<br>Henkilökuntamme ohjaa asiakkaat pöytiin.<br><br>Erikoisruokavaliot ja juomien ennakkotilaukset tulee ilmoittaa suoraan ravintolaan: ravintola@komediateatteri.fi <br>Ruokailun menu vahvistuu lähempänä konserttia.   <b> </b><br><br><b>Aitioliput</b><br>Palatsissa on mahdollista tilata myös aitio omaan käyttöön 1–4 henkilön seurueille, isommillekin ryhmille, kun varaa vierekkäiset aitiot ryhmän käyttöön. Aitioliput vain Komediateatterin Lipputoimistosta puh. 0207 288 388 tai liput@komediateatteri.fi  <br><br><b>Vaatesäilytys</b><br>Vaatesäilytysmaksu lippuun ostettuna 2 €/hlö, ovelta 2,50 €/hlö.<br><br><b>Väliaikatarjoilut</b><br>Tilaa väliaikatarjoilu etukäteen Juhlatalon Palveluiden sivuilta <a href="https://tarjoilut.juhlatalonpalvelut.fi/info/11/valitse-esitys/" target="_blank">lomakkeella</a>  tai puhelimitse numerosta 0405575833. <br>Varaukset tulee tehdä viimeistään kolme arkipäivää ennen esitystä ja maksaa viimeistään ennen näytöksen alkua ravintolaan. <br>Ravintola ei kata maksamattomia varauksia. Jokainen tilaus vahvistetaan sähköpostitse viimeistään seuraavana arkipäivänä.<br>Väliaikatarjoiluvarauksen voi tehdä myös ennen esitystä teatteriin saavuttaessa, mutta silloin emme voi taata koko tarjoiluvalikoimaa.<br><br><b>Joustolippu</b><br>Viiden euron lisähinnalla voi ostaa joustolipun. Joustolippu oikeuttaa vaihtamaan lipun samanhintaisen hintaryhmän lippuun vielä esitystä edeltävänä päivänä ilman vaihtomaksua. Vaihtomaksu ilman joustoa 10 €/lippu.<br><br><b>Ryhmät</b><br>Ryhmien lippu- ja ruokailuvaraukset vain Komediateatterin Lipputoimistosta puh. 0207 288 388 tai liput@komediateatteri.fi<br>Ryhmäalennukset ja -ruokailut yli 20 hengen ryhmille.<br><br>***<br><br><b>Komediateatterin Palatsi</b> (Hämeenkatu 30) on Hämeenkadun ikoninen juhla- ja teatteritila aivan Tampereen ydinkeskustassa. Arkkitehti Bertel Strömmerin suunnittelema rakennus valmistui vuonna 1929, ja se tunnettiin pitkään elokuvateatterina: ensin nimellä Tuulensuu ja myöhemmin Kino-Palatsi. Elokuvateatterin ensimmäinen näytös esitettiin 18.8.1929, ja elokuvakausi päättyi 27.3.1991. Vuosien varrella Palatsin historiallinen sali on entisöity alkuperäistä henkeä kunnioittaen, ja nykyään se yhdistää klassisen loiston sekä modernin kokous- ja esiintymistekniikan.<br><br>Vuonna 2025 Palatsi siirtyi <b>Tampereen Komediateatterin talosäätiön</b> omistukseen, ja toimintaa operoivat <b>Tampereen Komediateatteri -säätiö sr</b> sekä ravintola- ja tapahtumapalveluista vastaava <b>Juhlatalon Palvelut Oy</b>. Palatsi on luonteva koti niin esityksille kuin yritys- ja yksityistilaisuuksille – keskellä kaupunkia, helposti saavutettavissa.<br><br>Palatsin ovimyynti aukeaa n. 2 h ennen esityksen alkua ja ovimyynnissä käy maksuvälineenä:  pankkikortti, luottokortti (Visa/Master), Tampereen Komediateatterin ja Lippupisteen lahjakortti, Virikeseteli, Edenred-kortti, SmartumPay, Edenred-mobiili, ePassi ja Zevoy Benefits.<br><br> <br /><br />  Visit event in our website: <a href='https://tapahtumainfo.fi/tapahtuma/2026/11/sirkka-show-k18/433001'>Tapahtumainfo.fi</a></body></html>
END:VEVENT
END:VCALENDAR
