BEGIN:VCALENDAR
VERSION:2.0
PRODID:-//tapahtumainfo.fi//NONSGML Aatu Raitala: Keskiluokan hillitty raivo K18//EN
METHOD:REQUEST
BEGIN:VEVENT
UID:20260424T034849-547795241-tapahtumainfo.fi
DTSTAMP:20260424T034849
DTSTART:20261113T190000Z
DTEND:20261113T020000Z
LOCATION:Ravintolateatteri Tampereen Komediateatteri
SUMMARY:Aatu Raitala: Keskiluokan hillitty raivo K18
DESCRIPTION:<html><head></head><body>Stand up-koomikko<b> Aatu Raitala </b>on helsinkiläistynyt itä-Suomen kasvatti, joka ei ole kadottanut runollista murrettaan. Aatun vahvuudet esiintyjänä on hänen leppoisan itsevarma asenteensa, terävät improvisaatiot ja yllättävät tarinankuljetukset.<br><br>Aatu valittiin vuonna 2013 muiden koomikoiden toimesta vuoden tulokkaaksi, ja 2019 vuoden koomikoksi.<br><br>TV:n puolella hän hauskuttaa säännöllisesti Kovan Viikon Ilta-ohjelmassa ja hän on myös esiintynyt Naurun Tasapaino- ja Nelosen Stand Up!-, MTV3 Komediaklubi- sekä Pitääkö Olla Huolissaan -ohjelmissa.<br><br>Aatu tekee keikkoja myös englannin kielellä ja on keikkaillut mm. Moskovassa, Kööpenhaminassa, Jenkeissä ja Berliinissä.<br><br>Esityksen kesto n. 1 h 30 min sis. väliajan<br><br><b>Hinnat:</b><br>Peruslippu, pöytäpaikka 36 €<br>Peruslippu, etukatsomon tuolipaikka 32 €<br>Opiskelija + 18–25 v., pöytäpaikka 28 €<br>Opiskelija + 18–25 v., etukatsomon tuolipaikka 24 €<br><br><b>Ryhmähinnat:</b><br>Ryhmä min. 20 lippua Pöytäpaikka 33 €<br>Ryhmä min. 20 lippua Etukatsomon tuolipaikka 29 €<br>Ryhmä min. 50 lippua Pöytäpaikka 32 €<br>Ryhmä min. 50 lippua Etukatsomon tuolipaikka 28 €<br><br>Show & Dinner min. 20 lippua Pöytäpaikka 68 €<br>Show & Dinner min. 50 lippua Pöytäpaikka 65 € Ovet Ravintolateatteriin avataan n. 1 h ennen esitystä. <br><br>Ravintolateatterissa on sekä numeroimattomia etukatsomon tuolipaikkoja, että salin takaosan pöytäpaikkoja. Kaikki paikat täytetään saapumisjärjestyksessä.<br><br><b>Tarjoilut Ravintolateatteriin</b><br>Pöytäpaikoille on mahdollista tilata tarjoilut etukäteen valmiiksi Juhlatalon Palveluiden<a href="https://www.juhlatalonpalvelut.fi/info/11/valitse-esitys/"> sivuilta lomakkeella</a> tai puhelimitse numerosta <a href="tel:+358405575833">0405575833.</a>  <br>Varaukset tulee tehdä viimeistään kolme arkipäivää ennen esitystä ja maksaa viimeistään ennen näytöksen alkua ravintolaan.  <br>Ravintola ei kata maksamattomia varauksia. Jokainen tilaus vahvistetaan sähköpostitse viimeistään seuraavana arkipäivänä.   <br><br>Tarjoilutilauksen voi tehdä myös ennen esitystä teatteriin saavuttaessa, mutta silloin emme voi taata koko tarjoiluvalikoimaa. <br><br>Baari avoinna ennen esitystä ja väliajalla.   <br><br><b>Vaatesäilytys </b><br>Vaatesäilytysmaksu lippuun ostettuna 2 €/hlö, ovelta 2,50 €/hlö.   <br><br><b>Show & Dinner</b> <br>Teatteriesityksen lisäksi ryhmät voivat nauttia laadukkaan noutopöytäruokailun ennen tai jälkeen esityksen. Teatterilipun ja ruokailun sisältävä Show & Dinner -paketti on tarkoitettu vähintään 20 hengen ryhmille. Mikäli Ravintolateatterissa on sekä päivä- että iltaesitys, ruokailu ei onnistu esitysten välissä.  Pakettien hinnat ovat esityskohtaisia ja saatavilla Tampereen Komediateatterin lipputoimistosta.   <br><br><b>Pyörätuolipaikat </b><br>Ravintolateatteriin pääsee myös pyörätuolilla. Pyörätuoli- ja avustajaliput myydään vain Komediateatterin <a href="https://www.komediateatteri.fi/16/lipunmyynti">Lipputoimistosta</a> ja Kulttuurimyymälä <a href="https://tampereenteatteri.fi/liput/">Aplodista</a>! <br>Lue lisää esteettömyydestä täältä:<a href=" https://www.komediateatteri.fi/13/esteettomyys"> https://www.komediateatteri.fi/13/esteettomyys</a><br> <br><b>Joustolippu</b> <br>Viiden euron lisähinnalla voi ostaa joustolipun. Joustolippu oikeuttaa vaihtamaan lipun samanhintaisen hintaryhmän lippuun vielä esitystä edeltävänä päivänä ilman vaihtomaksua. <br>Vaihtomaksu ilman joustoa 10 €/lippu. <br><br><b>Ryhmät</b> <br>Ryhmien lippu- ja ruokailuvaraukset vain Komediateatterin Lipputoimistosta puh. 0207 288 388.  Ryhmäalennukset ja -ruokailut yli 20 hengen ryhmille. <br><br><b>Saapuminen ja pysäköinti </b><br>Tampereen Komediateatterin pääovi sijaitsee sisäpihalla, rautaportista sisäpihalle ja pääovesta sisään. Lipputoimistomme sijaitsee Lapintien ja Juhlatalonkadun kulmassa. <br>Lue lisää täältä: <a href="https://www.komediateatteri.fi/26/saapuminen-ja-pysakointi">https://www.komediateatteri.fi/26/saapuminen-ja-pysakointi</a> <br> <br /><br />  Visit event in our website: <a href='https://tapahtumainfo.fi/tapahtuma/2026/11/aatu-raitala-keskiluokan-hillitty-raivo-k18/433005'>Tapahtumainfo.fi</a></body></html>
END:VEVENT
END:VCALENDAR
