BEGIN:VCALENDAR
VERSION:2.0
PRODID:-//tapahtumainfo.fi//NONSGML Akun ja Iiron pikkujoulushow K18//EN
METHOD:REQUEST
BEGIN:VEVENT
UID:20260421T000757-250494654-tapahtumainfo.fi
DTSTAMP:20260421T000757
DTSTART:20261114T183000Z
DTEND:20261114T020000Z
LOCATION:Komediateatterin Palatsi
SUMMARY:Akun ja Iiron pikkujoulushow K18
DESCRIPTION:<html><head></head><body>Akun ja Iiron pikkujoulushow’ssa Marja Tyrni tarjoilee rutisevaa kinkkua ja pastori Luttinen valjastaa saarnassa pakinansa. Harjakaisen Timo piipahtaa kertomassa kuumimmat pikkujouluvinkkinsä.<br><br>Luvassa myös vauhdikkaita soolopianoesityksiä a’la Iiro Rantala. Ja Iiron käsittelyssä tututkin joululaulut saavat aivan uuden ilmeen. Luvassa siis musiikkia, huumoria ja pikkujoulumielisyyksiä.<br><br>Ilman tätä showta joulu ei kerta kaikkiaan tule!<br><br>Varoitus: Aku Hirviniemen ja Iiro Rantalan hulvaton pikkujoulushow saattaa sisältää huumoria!<br><br>Esityksen kesto n. 2 h sis. väliajan<br><br><b>Hinnat:</b><br>Peruslippu 45 €<br>Eläkeläinen 43 €<br>Opiskelijat sekä 18–25-vuotiaat 37 €<br>Työtön 40 €<br><br>Ryhmä min. 20 lippua 42 €<br>Ryhmä min. 50 lippua 41 €<br><br>Show & Dinner -liput myös yksittäisille katsojille:<br><br>Show & Dinner LIHA / KASVIS 89 €<br>Show & Dinner LIHA / KASVIS min. 20 lippua 84 €<br>Show & Dinner min. 50 lippua 81 €<br><br><b>Aitiolipun hinnat:</b><br>Aitio 1–4 henkilöä 218 € sis. vaatesäilytysmaksun<br>Aitio 1–4 henkilöä Show & Dinner LIHA/KASVIS 394 € sis. vaatesäilytysmaksun<br><br>Parvekeaitio 1–2 henkilöä 114 € sis. vaatesäilytysmaksun<br>Parvekeaitio 1–4 henkilöä 208 € sis. vaatesäilytysmaksun<br><br>Parvekeaitio 1–2 henkilöä Show & Dinner LIHA/KASVIS 202 € sis. vaatesäilytysmaksun<br>Parvekeaitio 1–4 henkilöä Show & Dinner LIHA/KASVIS 384 € sis. vaatesäilytysmaksun<br><br>**<br><br>Show & Dinner -paketti, ruokailu klo 17 alkaen, esitys klo 18:30<br>Valittavissa on liha tai kasvisvaihtoehto.<br>Show & Dinner -paketeissa pöytäpaikat ja yhteispöydät, jolloin saatamme sijoittaa pöytiin useampia seurueita.<br>Saman tilauksen liput sijoitetaan aina samaan pöytään. Jos liput on ostettu eri tilauksissa, emme valitettavasti voi taata yhteistä pöytää tai vierekkäisiä paikkoja.<br>Isot seurueet pyritään sijoittamaan vierekkäisiin pöytiin aina kun se on mahdollista.<br>Henkilökuntamme ohjaa asiakkaat pöytiin.<br><br>Erikoisruokavaliot ja juomien ennakkotilaukset tulee ilmoittaa suoraan ravintolaan: <a href="ravintola@komediateatteri.fi ">ravintola@komediateatteri.fi </a><br>Ruokailun menu vahvistuu lähempänä konserttia. <br><br><b>Aitioliput</b><br>Palatsissa on mahdollista tilata myös aitio omaan käyttöön 1–4 henkilön seurueille, isommillekin ryhmille, kun varaa vierekkäiset aitiot ryhmän käyttöön. Aitioliput vain Komediateatterin Lipputoimistosta puh. <a href="0207 288 388">0207 288 388</a> tai <a href="liput@komediateatteri.fi">liput@komediateatteri.fi</a><br> <br><b>Vaatesäilytys</b><br>Vaatesäilytysmaksu lippuun ostettuna 2 €/hlö, ovelta 2,50 €/hlö.<br><br><b>Väliaikatarjoilut</b><br>Tilaa väliaikatarjoilu etukäteen Juhlatalon Palveluiden sivuilta lomakkeella  tai puhelimitse numerosta 0405575833. <br>Varaukset tulee tehdä viimeistään kolme arkipäivää ennen esitystä ja maksaa viimeistään ennen näytöksen alkua ravintolaan. <br>Ravintola ei kata maksamattomia varauksia. Jokainen tilaus vahvistetaan sähköpostitse viimeistään seuraavana arkipäivänä.<br>Väliaikatarjoiluvarauksen voi tehdä myös ennen esitystä teatteriin saavuttaessa, mutta silloin emme voi taata koko tarjoiluvalikoimaa.<br><br><b>Joustolippu</b><br>Viiden euron lisähinnalla voi ostaa joustolipun. Joustolippu oikeuttaa vaihtamaan lipun samanhintaisen hintaryhmän lippuun vielä esitystä edeltävänä päivänä ilman vaihtomaksua.<br>Vaihtomaksu ilman joustoa 10 €/lippu.<br><br><b>Ryhmät</b><br>Ryhmien lippu- ja ruokailuvaraukset vain Komediateatterin Lipputoimistosta puh. 0207 288 388 tai liput@komediateatteri.fi<br><br>Ryhmäalennukset ja -ruokailut yli 20 hengen ryhmille.<br>***<br><br><b>Komediateatterin Palatsi  </b>(Hämeenkatu 30) on Hämeenkadun ikoninen juhla- ja teatteritila aivan Tampereen ydinkeskustassa. Arkkitehti Bertel Strömmerin suunnittelema rakennus valmistui vuonna 1929, ja se tunnettiin pitkään elokuvateatterina: ensin nimellä Tuulensuu ja myöhemmin Kino-Palatsi. Elokuvateatterin ensimmäinen näytös esitettiin 18.8.1929, ja elokuvakausi päättyi 27.3.1991. Vuosien varrella Palatsin historiallinen sali on entisöity alkuperäistä henkeä kunnioittaen, ja nykyään se yhdistää klassisen loiston sekä modernin kokous- ja esiintymistekniikan.<br><br>Vuonna 2025 Palatsi siirtyi <b>Tampereen Komediateatterin talosäätiön</b> omistukseen, ja toimintaa operoivat <b>Tampereen Komediateatteri -säätiö sr</b> sekä ravintola- ja tapahtumapalveluista vastaava <b>Juhlatalon Palvelut Oy</b>. Palatsi on luonteva koti niin esityksille kuin yritys- ja yksityistilaisuuksille – keskellä kaupunkia, helposti saavutettavissa.<br><br>Palatsin ovimyynti aukeaa n. 2 h ennen esityksen alkua ja ovimyynnissä käy maksuvälineenä: pankkikortti, luottokortti (Visa/Master), Tampereen Komediateatterin ja Lippupisteen lahjakortti, Virikeseteli, Edenred-kortti, SmartumPay, Edenred-mobiili, ePassi ja Zevoy Benefits. <br /><br />  Visit event in our website: <a href='https://tapahtumainfo.fi/tapahtuma/2026/11/akun-ja-iiron-pikkujoulushow-k18/433011'>Tapahtumainfo.fi</a></body></html>
END:VEVENT
END:VCALENDAR
