BEGIN:VCALENDAR
VERSION:2.0
PRODID:-//tapahtumainfo.fi//NONSGML Ahola,Töyssy&Ahola:Koko Komedia laulaa K18//EN
METHOD:REQUEST
BEGIN:VEVENT
UID:20260422T082618-1482418067-tapahtumainfo.fi
DTSTAMP:20260422T082618
DTSTART:20260822T180000Z
DTEND:20260822T020000Z
LOCATION:Tampereen Komediateatteri katettu ulkoilmakatsomo
SUMMARY:Ahola,Töyssy&Ahola:Koko Komedia laulaa K18
DESCRIPTION:<html><head></head><body><b>Tänä iltana Komediateatterissa ei istuta kädet sylissä.<br></b><br><b>Jari Ahola</b> ja <b>Mikko Töyssy</b> nostavat lavalle suomi-rockin rakastetuimmat klassikot – Eppu Normaalista Leevi and the Leavingsiin ja Popedaan. Luvassa on vahvoja sooloja, näyttäviä duettoja ja ennen kaikkea hetkiä, joissa koko sali laulaa mukana.<br><br><b>Petra Ahola</b> tuo iltaan komedialliset sävyt ja yllätykset – ja tarttuu myös mikrofoniin. Illan säestyksestä vastaa 5-henkinen Jimi Hautamäki Band.<br><br>Tämä ei ole taustamusiikkia. Tämä on yhteislaulun konsertti.<br><br>Yksi ilta. Koko Komedia laulaa.<br><br>Kesto n. 2 h sis. väliajan<br><br>K18 - koko katsomo anniskelualuetta<br><br><b>Hinnat:</b><br>Peruslippu 45 €<br>Show & Paella 60 €<br><br>Ryhmä min. 20 lippua 42 €<br>Show & Paella min. 20 lippua 57 €<br><br><b>SHOW & PAELLA </b><br>Teatteriesityksen lisäksi ryhmät voivat nauttia komediagrillin herkullisen kanapaellan ennen tai jälkeen esityksen. Myös kasvisvaihtoehto Paellasta on saatavissa pyydettäessä. <br><br>Ruokailuun varataan aikaa n. 1,5 h. Teatterilipun ja ruokailun sisältävä Show & Paella-paketti on tarkoitettu vähintään 20 hengen ryhmille. Ruokajuomiksi voi tilata esim. 2 kaatoa viiniä per henkilö. Ruokajuomat laskutetaan jälkikäteen käytön mukaan. Erityisruokavaliot voi ilmoittaa meille vahvistuksen yhteydessä ja myös kasvisvaihtoehto on saatavilla pyydettäessä. <br><br>Paella nautitaan ulkotiloissa, mikäli osallistujia on alle 80 henkilöä, jos yli 80 henkilöä niin ruokailu sisätiloissa.  <br><br><b>Väliaikatarjoilut </b><br>Tilaa väliaikatarjoilu etukäteen Juhlatalon Palveluiden sivuilta <a href="https://tarjoilut.juhlatalonpalvelut.fi/info/11/valitse-esitys/" target="_blank">lomakkeella</a> tai puhelimitse numerosta 0405575833.   Varaukset tulee tehdä viimeistään 3 arkipäivää ennen esitystä ja maksaa viimeistään ennen näytöksen alkua ravintolaan.  <br><br>Ravintola ei kata maksamattomia varauksia. Jokainen tilaus vahvistetaan sähköpostitse viimeistään seuraavana arkipäivänä.   <br><br>Väliaikatarjoiluvarauksen voi tehdä myös ennen esitystä teatteriin saavuttaessa, mutta silloin emme voi taata koko tarjoiluvalikoimaa. <br><br><b>Pyörätuolipaikat </b><br>Kesäteatterin katsomossa on kuusi pyörätuolipaikkaa. Pyörätuoli- ja avustajaliput myydään vain Komediateatterin Lipputoimistosta ja Kulttuurimyymälä Aplodista!   <br><br><b>Ryhmät</b><br>Ryhmien lippu- ja ruokailuvaraukset vain Komediateatterin Lipputoimistosta puh. 0207 288 388.  Ryhmäalennukset ja -ruokailut yli 20 hengen ryhmille. Lue lisää täältä: https://www.komediateatteri.fi/25/ryhmat <a href="https://www.komediateatteri.fi/25/ryhmat" target="_blank">https://www.komediateatteri.fi/25/ryhmat</a> <br /><br />  Visit event in our website: <a href='https://tapahtumainfo.fi/tapahtuma/2026/08/ahola-toyssy-ahola-koko-komedia-laulaa-k18/433029'>Tapahtumainfo.fi</a></body></html>
END:VEVENT
END:VCALENDAR
