BEGIN:VCALENDAR
VERSION:2.0
PRODID:-//tapahtumainfo.fi//NONSGML Järjen ja tunteen tyttäret//EN
METHOD:REQUEST
BEGIN:VEVENT
UID:20260425T025103-401139264-tapahtumainfo.fi
DTSTAMP:20260425T025103
DTSTART:20261113T190000Z
DTEND:20261113T020000Z
LOCATION:Valkeakosken Teatteri, Päänäyttämö
SUMMARY:Järjen ja tunteen tyttäret
DESCRIPTION:<html><head></head><body>Kiehtova historiallinen tarina kahdesta nuoresta naisesta sortovuosien ja heräävän itsenäistymisen ajan Suomessa. Sääty-yhteiskunnan rakenteet rakoilevat naisten raivatessa tietään kohti unelmiaan ja äänioikeutta. Enni Mustosen romaaneihin pohjautuvassa näytelmässä on kosolti Suomen historian huminaa. Sekä tietysti rakkautta ja sydänsuruja! <br /><br />  Visit event in our website: <a href='https://tapahtumainfo.fi/tapahtuma/2026/11/jarjen-ja-tunteen-tyttaret/433048'>Tapahtumainfo.fi</a></body></html>
END:VEVENT
END:VCALENDAR
