BEGIN:VCALENDAR
VERSION:2.0
PRODID:-//tapahtumainfo.fi//NONSGML Aarne Tenkanen & Ernesto pänd//EN
METHOD:REQUEST
BEGIN:VEVENT
UID:20260422T191559-1415082756-tapahtumainfo.fi
DTSTAMP:20260422T191559
DTSTART:20260501T210000Z
DTEND:20260501T020000Z
LOCATION:Restaurant Meyer Hamina
SUMMARY:Aarne Tenkanen & Ernesto pänd
DESCRIPTION:<html><head></head><body><h2>AARNE TENKANEN &amp; ERNESTO PÄND ENSI-ILTA SAMALLA LAVALLA</h2><p>Yksi ilta. Kaksi show’ta. Yksi ainutlaatuinen ensiesiintyminen.</p><p>Ilta käynnistyy klo 21.00, kun Ernesto Pänd nousee lavalle omalla soolokeikallaan. Tiedossa on energinen setti täynnä tuttuja hittejä, huumoria ja juhlatunnelmaa. Samalla juhlistetaan Ernesto Pändin 10-vuotista taivalta tästä juhlakiertueen iltaa et halua missata.</p><p>Tauon jälkeen noin klo 22.30 koittaa illan odotettu hetki, kun lavalle astuvat yhdessä Aarne Tenkanen &amp; Ernesto Pänd.</p><p>Kyseessä on heidän ensiesiintymisensä yhdessä tässä kokoonpanossa.</p><p>Aarne Tenkanen on suomalaisen viihteen legenda, jonka nimi ei juuri esittelyjä kaipaa. Kun hän yhdistää voimansa 10-vuotisjuhlavuottaan viettävän Ernesto Pändin kanssa, syntyy ilta, josta puhutaan vielä pitkään.</p><p>Tämä ei ole vain keikka. tämä on tapahtuma.</p><p>Nähdään eturivissä.</p> <br /><br />  Visit event in our website: <a href='https://tapahtumainfo.fi/tapahtuma/2026/05/aarne-tenkanen-ernesto-pand/433080'>Tapahtumainfo.fi</a></body></html>
END:VEVENT
END:VCALENDAR
