BEGIN:VCALENDAR
VERSION:2.0
PRODID:-//tapahtumainfo.fi//NONSGML Täpinät - Kesäkinkerit K-18//EN
METHOD:REQUEST
BEGIN:VEVENT
UID:20260422T114326-217736208-tapahtumainfo.fi
DTSTAMP:20260422T114326
DTSTART:20260530T180000Z
DTEND:20260530T020000Z
LOCATION:Ravintola Torvi
SUMMARY:Täpinät - Kesäkinkerit K-18
DESCRIPTION:<html><head></head><body>Täpinät! - Kesäkinkerit lauantaina 30.5. Lahdessa, Loviisankadulla, Torvessa ja Tirrassa. Esiintymässä Ellaella, good boys, Jodarok, Michael Bleu, Satanen, Siivet ja The Switchblades! <br /><br />  Visit event in our website: <a href='https://tapahtumainfo.fi/tapahtuma/2026/05/tapinat-kesakinkerit-k-18/433132'>Tapahtumainfo.fi</a></body></html>
END:VEVENT
END:VCALENDAR
