BEGIN:VCALENDAR
VERSION:2.0
PRODID:-//tapahtumainfo.fi//NONSGML Kun aurinko putosi//EN
METHOD:REQUEST
BEGIN:VEVENT
UID:20260426T020808-1862415933-tapahtumainfo.fi
DTSTAMP:20260426T020808
DTSTART:20261106T180000Z
DTEND:20261106T020000Z
LOCATION:Mikkelin Teatteri, Suuri näyttämö
SUMMARY:Kun aurinko putosi
DESCRIPTION:<html><head></head><body> <br /><br />  Visit event in our website: <a href='https://tapahtumainfo.fi/tapahtuma/2026/11/kun-aurinko-putosi/433142'>Tapahtumainfo.fi</a></body></html>
END:VEVENT
END:VCALENDAR
