BEGIN:VCALENDAR
VERSION:2.0
PRODID:-//tapahtumainfo.fi//NONSGML Kun aurinko putosi//EN
METHOD:REQUEST
BEGIN:VEVENT
UID:20260423T035641-333210811-tapahtumainfo.fi
DTSTAMP:20260423T035641
DTSTART:20261113T180000Z
DTEND:20261113T020000Z
LOCATION:Mikkelin Teatteri, Suuri näyttämö
SUMMARY:Kun aurinko putosi
DESCRIPTION:<html><head></head><body> <br /><br />  Visit event in our website: <a href='https://tapahtumainfo.fi/tapahtuma/2026/11/kun-aurinko-putosi/433144'>Tapahtumainfo.fi</a></body></html>
END:VEVENT
END:VCALENDAR
