BEGIN:VCALENDAR
VERSION:2.0
PRODID:-//tapahtumainfo.fi//NONSGML Punk ja Yäk 2026 - Helsinki edition - PERJANTAI K-18//EN
METHOD:REQUEST
BEGIN:VEVENT
UID:20260425T135436-650940781-tapahtumainfo.fi
DTSTAMP:20260425T135436
DTSTART:20260925T193000Z
DTEND:20260925T020000Z
LOCATION:Kulttuuritehdas Korjaamo
SUMMARY:Punk ja Yäk 2026 - Helsinki edition - PERJANTAI K-18
DESCRIPTION:<html><head></head><body>Helsingin syksy saa kaipaamansa rosoisen piristysruiskeen, kun Korjaamon neljälle eri lavalle levittäytyvä festivaali kokoaa yhteen kotimaisen punkin, garagen, indierockin ja vaihtoehtomusiikin kiinnostavat nimet – legendat sekä uudet äänet.<br><br>Korjaamon ikoninen Vaunusali sykkii festivaalin sydämenä. Vaunusalin lavalle nousevat mm. räjähtävää lavaenergiaa pursuava garagerockduo <b>The Courettes (DNK/BRA)</b>, suomalaisen punkin legenda <b>Pelle Miljoona</b> yhdessä <b>Pispala Punks -yhtyeen</b> kanssa, sekä uuden albumin keväällä julkaiseva energiavyöry <b>Aino & Hajonneet</b>.<br><br>Klassikko-osastoa tarjoilee Viron ylpeys <b>J.M.K.E</b>. sekä <b>Pojat-yhtye</b>.<b> Luukas Oja</b> taas tuo oman, valloittavan keitoksensa Vaunusalin ohjelmistoon.<br><br>Korjaamon Kulmasalissa tarjoillaan tinkimätöntä punk-energiaa yhteensä kuuden bändin voimin. Tiivistunnelmaisen salin seiniä järisyttää legendaariset yhtyeet,<b> Rattus</b>, <b>Häiriköt</b>, <b>Riistetyt</b> sekä<b> Punk ja yäk</b> -tapahtumaa varten paluun tekevä <b>Vandaalit</b>. Oman ravisuttavan näkemyksensä Kulmasalissa tarjoavat energiset <b>Saa kiljua</b> ja<b> NO EI!</b>.<br><br>Festivaalin uutuutena Korjaamon Kinosta muotoutuu ”Indie-kino”, jossa nähdään nousevia ja vaihtoehtoisia indieartisteja, intiimissä, elokuvateatterimaisessa ympäristössä.<br><br>Erikoisuutena Vaunusalin yhteyteen rakentuu myös unplugged-henkinen ”Ratikka-aulan” lava, missä pääpaino on vaihtoehtoisessa akustisessa musiikissa.<br><br>Punk ja yäk -klubifestivaali levittäytyy Korjaamon alueelle neljälle eri lavalle, tarjoten kahden päivän ajan monipuolisen kattauksen vaihtoehtomusiikkia.<br><br> <br /><br />  Visit event in our website: <a href='https://tapahtumainfo.fi/tapahtuma/2026/09/punk-ja-yak-2026-helsinki-edition-perjantai-k-18/433166'>Tapahtumainfo.fi</a></body></html>
END:VEVENT
END:VCALENDAR
