BEGIN:VCALENDAR
VERSION:2.0
PRODID:-//tapahtumainfo.fi//NONSGML Työpaja aikuisille: Teeseremonia//EN
METHOD:REQUEST
BEGIN:VEVENT
UID:20260420T213125-689586680-tapahtumainfo.fi
DTSTAMP:20260420T213125
DTSTART:20260602T180000Z
DTEND:20260602T020000Z
LOCATION:Lilla Villan
SUMMARY:Työpaja aikuisille: Teeseremonia
DESCRIPTION:<html><head></head><body>Tutustumme teerituaaliin perinteisiä tapoja kunnioittaen. Työpajan vetäjä on opiskellut teetaidetta Japanissa ja hänellä on pitkä kokemus teen parissa työskentelemisestä. Sopii kaikille aikuisille!<br /><br />Lilla Villan 2.6. klo 18.00<br /><br />Lippu 20 €<br /><br />Kesto 2h<br /><br />Illan aikana valmistamme teetä, nautimme sitä ja opimme jotakin japanilaisesta ajattelutavasta. <br /><br />  Visit event in our website: <a href='https://tapahtumainfo.fi/tapahtuma/2026/06/tyopaja-aikuisille-teeseremonia/433227'>Tapahtumainfo.fi</a></body></html>
END:VEVENT
END:VCALENDAR
