BEGIN:VCALENDAR
VERSION:2.0
PRODID:-//tapahtumainfo.fi//NONSGML Bill Condon: HÄMÄHÄKKINAISEN SUUDELMA//EN
METHOD:REQUEST
BEGIN:VEVENT
UID:20260422T114816-831406394-tapahtumainfo.fi
DTSTAMP:20260422T114816
DTSTART:20260311T183000Z
DTEND:20260311T020000Z
LOCATION:Studio, Kulttuuritalo Valve
SUMMARY:Bill Condon: HÄMÄHÄKKINAISEN SUUDELMA
DESCRIPTION:<html><head></head><body> <br /><br />  Visit event in our website: <a href='https://tapahtumainfo.fi/tapahtuma/2026/03/bill-condon-hamahakkinaisen-suudelma/434088'>Tapahtumainfo.fi</a></body></html>
END:VEVENT
END:VCALENDAR
