BEGIN:VCALENDAR
VERSION:2.0
PRODID:-//tapahtumainfo.fi//NONSGML Heart//EN
METHOD:REQUEST
BEGIN:VEVENT
UID:20260422T114100-1862887389-tapahtumainfo.fi
DTSTAMP:20260422T114100
DTSTART:20260311T190000Z
DTEND:20260311T020000Z
LOCATION:
SUMMARY:Heart
DESCRIPTION:<html><head></head><body> <br /><br />  Visit event in our website: <a href='https://tapahtumainfo.fi/tapahtuma/2026/03/heart/434096'>Tapahtumainfo.fi</a></body></html>
END:VEVENT
END:VCALENDAR
