BEGIN:VCALENDAR
VERSION:2.0
PRODID:-//tapahtumainfo.fi//NONSGML Red Nose Company Keisarin uudet vaatteet//EN
METHOD:REQUEST
BEGIN:VEVENT
UID:20260426T061236-226855388-tapahtumainfo.fi
DTSTAMP:20260426T061236
DTSTART:20260926T140000Z
DTEND:20260926T020000Z
LOCATION:Silkkisali
SUMMARY:Red Nose Company Keisarin uudet vaatteet
DESCRIPTION:<html><head></head><body>Teatteri Vantaa, Silkkisali, Tikkurilantie 44 / Silkkitehtaantie 5, 01300 Vantaa<br />www.teatterivantaa.fi<br /><br />la 26.9.2026 klo 14<br /><br />Vuonna 2017 klovniduo Timo Ruuskanen ja Tuukka Vasama tekivät ensimmäisen koko<br />perheen esityksensä, josta tuli heti kaikenikäisten katsojien kestosuosikki.<br /><br />Esityksessä näyttelijät hyppäävät roolista toiseen ja huomioivat kaikenikäiset katsojat.<br />H.C.Andersenin aina ajankohtaiseen klassikkosatuun punotaan menevää musiikkia<br />Aviciista Abbaan. Esitystä on kuvailtu anarkistiseksi ja siinä pohditaan massojen<br />käyttäytymista, valehtelemisen ja huijaamisen mekanismeja ja vallan vaikutusta ihmiseen.<br /><br />Lapsille tarina tarjoaa oivalluksia koulumaailmasta, vanhemmille katsojille Keisarin uudet<br />vaatteet on poliittisempi satiiri — mutta yksi asia on universaali ja varma: alastoman<br />keisarin takapuoli naurattaa meitä kaikkia.<br />Esitys sisältää improvisaatiota, ja se räätälöidään aina kohderyhmän mukaan.<br /><br />Näyttämöllä: Timo Ruuskanen ja Tuukka Vasama<br />Tarina: H.C. Andersen<br />Ohjaus, dramatisointi ja taiteellinen suunnittelu: Timo Ruuskanen ja Tuukka Vasama<br /><br />Kesto: n. 1h, ei väliaikaa<br />Ikäsuositus: Kaikille 6-100 -vuotiaille<br />Liput: 22 / 17 €,  sis. Netticketin palvelumaksut<br /><br />HUOM. Puolet permantopaikoista (mm. 2 pyörätuolipaikkaa) myydään teatterin toimistosta,<br />09 836 1919. <br /><br />  Visit event in our website: <a href='https://tapahtumainfo.fi/tapahtuma/2026/09/red-nose-company-keisarin-uudet-vaatteet/437309'>Tapahtumainfo.fi</a></body></html>
END:VEVENT
END:VCALENDAR
