BEGIN:VCALENDAR
VERSION:2.0
PRODID:-//tapahtumainfo.fi//NONSGML Komisario Palmun erehdys//EN
METHOD:REQUEST
BEGIN:VEVENT
UID:20260426T061308-1754508368-tapahtumainfo.fi
DTSTAMP:20260426T061308
DTSTART:20260926T180000Z
DTEND:20260926T020000Z
LOCATION:Porin Teatteri, Päänäyttämö
SUMMARY:Komisario Palmun erehdys
DESCRIPTION:<html><head></head><body> <br /><br />  Visit event in our website: <a href='https://tapahtumainfo.fi/tapahtuma/2026/09/komisario-palmun-erehdys/438856'>Tapahtumainfo.fi</a></body></html>
END:VEVENT
END:VCALENDAR
