BEGIN:VCALENDAR
VERSION:2.0
PRODID:-//tapahtumainfo.fi//NONSGML Tanssiva sirkus 2.0 - Ylivieskan näytös//EN
METHOD:REQUEST
BEGIN:VEVENT
UID:20260424T084931-1814745897-tapahtumainfo.fi
DTSTAMP:20260424T084931
DTSTART:20261011T180000Z
DTEND:20261011T020000Z
LOCATION:Kulttuurikeskus Akustiikka
SUMMARY:Tanssiva sirkus 2.0 - Ylivieskan näytös
DESCRIPTION:<html><head></head><body>Tanssiopisto Uusikuun kevätnäytös 2026 <br /><br />  Visit event in our website: <a href='https://tapahtumainfo.fi/tapahtuma/2026/10/tanssiva-sirkus-2-0-ylivieskan-naytos/440547'>Tapahtumainfo.fi</a></body></html>
END:VEVENT
END:VCALENDAR
