BEGIN:VCALENDAR
VERSION:2.0
PRODID:-//tapahtumainfo.fi//NONSGML Punainen Lanka 2.-3.10.2026 @PK//EN
METHOD:REQUEST
BEGIN:VEVENT
UID:20260420T022447-1131936203-tapahtumainfo.fi
DTSTAMP:20260420T022447
DTSTART:20261002T200000Z
DTEND:20261002T020000Z
LOCATION:Punainen Kukko
SUMMARY:Punainen Lanka 2.-3.10.2026 @PK
DESCRIPTION:<html><head></head><body>Porilainen, kaksipäiväinen viikonlopputapahtuma, jossa 11 bändiä soittaa rautalanka-, beat-, surf-, rockabilly ja rock'n'rollia. Punainen Lanka kumartaa kohti Twang ja Yyterin Twist -tapahtumien perintöä.<br><br>Tunnelma on elävä ja tanssiva, täynnä kitarariffejä ja tarttuvia melodioita, sopien niin kuuntelijoille kuin tanssilattialle. Esitys tuo esiin bändien nostalgisen otteen nykyaikaisella energialla.<br><br>Tämä kahden illan (perjantai ja lauantai) livetapahtuma Punaisessa Kukossa juhlistaa perinteitä ja paikallista musiikkikulttuuria Porissa tarjoten elämyksen niin vanhoille ystäville kuin uusille kuulijoille. Tule kuulemaan twangia ja twistin henkeä reippaassa paketissa.<br><br>Perjantai 2.10. RAMY House Band, Dang Cats, The Hikers, The Reloaders, Vaiettu Salaisuus.<br><br>Lauantai 3.10. Polte, Mr. Milkbox & His Minions, The Spectre, The Bad Gringos, The Dangermen, The Grande Bois. <br /><br />  Visit event in our website: <a href='https://tapahtumainfo.fi/tapahtuma/2026/10/punainen-lanka-2-3-10-2026-pk/441563'>Tapahtumainfo.fi</a></body></html>
END:VEVENT
END:VCALENDAR
