BEGIN:VCALENDAR
VERSION:2.0
PRODID:-//tapahtumainfo.fi//NONSGML Ahvenanmaan 7500 vuoden historiaa//EN
METHOD:REQUEST
BEGIN:VEVENT
UID:20260423T130609-1194033501-tapahtumainfo.fi
DTSTAMP:20260423T130609
DTSTART:20200101T020000Z
DTEND:20501231T020000Z
LOCATION:Ahvenanmaan kulttuurihistoriallinen museo
SUMMARY:Ahvenanmaan 7500 vuoden historiaa
DESCRIPTION:<html><head></head><body>MeillÃ¤ pÃ¤Ã¤set kokemaan Ahvenanmaan 7500 vuoden historiaa. <br>Ahvenanmaan kulttuurihistoriallinen museo on maakunnan tÃ¤rkein kulttuurihistoriallinen museo. PysyvÃ¤ nÃ¤yttelymme kattaa ajan ensimmÃ¤isistÃ¤ asukkaista 7500 vuotta sitten nykypÃ¤ivÃ¤Ã¤n asti. <br>Jaamme tilan Ahvenanmaan taidemuseon kanssa keskellÃ¤ Maarianhaminaa, aivan kaupungintorin vieressÃ¤, ja sisÃ¤Ã¤npÃ¤Ã¤sylippu on voimassa molempiin museoihin. Tervetuloa!<br><br> <br /><br />  Visit event in our website: <a href='https://tapahtumainfo.fi/tapahtuma/2020/01/ahvenanmaan-7500-vuoden-historiaa/441619'>Tapahtumainfo.fi</a></body></html>
END:VEVENT
END:VCALENDAR
