BEGIN:VCALENDAR
VERSION:2.0
PRODID:-//tapahtumainfo.fi//NONSGML Elokuvamusiikin tähtipölyä konsertti//EN
METHOD:REQUEST
BEGIN:VEVENT
UID:20260423T130819-855299870-tapahtumainfo.fi
DTSTAMP:20260423T130819
DTSTART:20260426T020000Z
DTEND:20260426T020000Z
LOCATION:Loviisan kirkko
SUMMARY:Elokuvamusiikin tähtipölyä konsertti
DESCRIPTION:<html><head></head><body><p>Urkuri <strong>Irina Lampén</strong> johdattaa kuulijat musiikilliselle<br />matkalle, jossa urkujen monipuolisuus ja elokuvamusiikin tunnelmat pääsevät<br />loistamaan. Tule kokemaan, kuinka urut herättävät elokuvien maailmat eloon –<br />ylläty ja ihastu!</p><br /><br /><p>Konsertissa kuullaan Hans Zimmerin, John Williamsin ja Yann<br />Tiersenin säveltämää musiikkia elokuvista Pirates of the Caribbean,<br />Interstellar, Gladiaattori, Da Vinci -koodi, Star Wars ja Amélie.</p><br /><br /><p>Lampén toimii Kotka-Kymin seurakunnan kirkkomuusikkona ja<br />konsertoi säännöllisesti sekä urkusolistina että osana urkuduoa yhdessä Jaana<br />Jokimiehen kanssa.</p><p>Konserttiin on vapaa pääsy, ohjelmat 10 €</p> <br /><br />  Visit event in our website: <a href='https://tapahtumainfo.fi/tapahtuma/2026/04/elokuvamusiikin-tahtipolya-konsertti/441626'>Tapahtumainfo.fi</a></body></html>
END:VEVENT
END:VCALENDAR
