BEGIN:VCALENDAR
VERSION:2.0
PRODID:-//tapahtumainfo.fi//NONSGML Keidas (levyjulkkarit)//EN
METHOD:REQUEST
BEGIN:VEVENT
UID:20260419T200612-1440450601-tapahtumainfo.fi
DTSTAMP:20260419T200612
DTSTART:20260424T020000Z
DTEND:20260424T020000Z
LOCATION:Siltanen
SUMMARY:Keidas (levyjulkkarit)
DESCRIPTION:<html><head></head><body><h2>Keidas juhlistaa kolmannen albuminsa <em>Piirsin sinulle kissan</em> julkkareita Siltasessa!</h2><br /><p>Keidas yhdistelee sujuvasti pitkiä kitarariffejä, korkeita disco-vokaaleja sekä suomirockin tarinallisuutta. Nasevat sanoitukset ja huoleton tyyli tuovat musiikkiin juuri sopivan vinksahtaneen kulman ja tuloksena on omintakeinen, ajaton mutta raikas soundi. Live-esiintymistä rakastava Keidas pyrkii keikoilla olemaan nimensä mukaisesti virkistävä saareke arkisen paahdon keskellä. Keidas on aiemmin julkaissut kaksi albumia ja yhden EP:n ja yhtyeen musiikki on noussut Spotifyn soittolistoille sekä radiosoittoon.</p><br /><p><a href="http://instagram.com/keidasyhtye" target="_blank">Instagram</a></p><br /><br /><p><strong>Liput ovelta 12 €, jos jäljellä.</strong><br></p><br /><p><strong>Esteettömyys:</strong><br>Siltasen tilat ovat esteettömiä ja sisäänkäynti tapahtuu ramppia pitkin Hämeentieltä. Tiloissa on esteetön WC. Avustaja pääsee tapahtumaan ilmaiseksi avustettavan kanssa samalla lipulla.</p> <br /><br />  Visit event in our website: <a href='https://tapahtumainfo.fi/tapahtuma/2026/04/keidas-levyjulkkarit/441631'>Tapahtumainfo.fi</a></body></html>
END:VEVENT
END:VCALENDAR
