BEGIN:VCALENDAR
VERSION:2.0
PRODID:-//tapahtumainfo.fi//NONSGML HPS Briotech Kansallinen liiga kotiottelut 2026//EN
METHOD:REQUEST
BEGIN:VEVENT
UID:20260420T142010-1318171403-tapahtumainfo.fi
DTSTAMP:20260420T142010
DTSTART:20260425T020000Z
DTEND:20260425T020000Z
LOCATION:Briotech Arena
SUMMARY:HPS Briotech Kansallinen liiga kotiottelut 2026
DESCRIPTION:<html><head></head><body><h3>HPS Kansallinen liiga kotiottelut 2026</h3><br /><p>La 25.4. klo 14:00 HPS - Åland United <br>Su 3.5. klo 14:00 HPS – PK-35 Vantaa <br>Su 17.5. klo 17:00 HPS – HJK <br>Pe 29.5. klo 18:30 HPS – KuPS <br>La 13.6. klo 14:00 HPS – IF Gnistan <br>Su 12.7. klo 15:00 HPS – VIFK <br>La 25.7. klo 14:00 HPS – Ilves </p><br /><br /><p>Alle 12-vuotiaat ja HPS-juniorit ilmaiseksi.</p><br /><p><strong>Esteettömyys</strong>:<br>  Pyörätuolipaikat sijaitsevat katsomon ja kentän välisellä juoksuradalla. Saattaja pääsee otteluun maksutta.</p> <br /><br />  Visit event in our website: <a href='https://tapahtumainfo.fi/tapahtuma/2026/04/hps-briotech-kansallinen-liiga-kotiottelut-2026/441632'>Tapahtumainfo.fi</a></body></html>
END:VEVENT
END:VCALENDAR
