BEGIN:VCALENDAR
VERSION:2.0
PRODID:-//tapahtumainfo.fi//NONSGML Olavi & Laila - Keinu Kanssani//EN
METHOD:REQUEST
BEGIN:VEVENT
UID:20260422T131937-940696923-tapahtumainfo.fi
DTSTAMP:20260422T131937
DTSTART:20260426T020000Z
DTEND:20260426T020000Z
LOCATION:Seminaarin Taidekampus
SUMMARY:Olavi & Laila - Keinu Kanssani
DESCRIPTION:<html><head></head><body><p><strong><em>Olavi & Laila - Keinu Kanssani&nbsp;</em></strong></p><br /><p><strong><em></em></strong>Olavi Virta ja Laila Kinnunen tapaavat toisensa ensi kertaa teatterilavalla Kajaanin Harrastajateatteri ry:n dress-along & dance-along -teemaisessa draamallisessa konsertissa, joka käsittelee heidän elämänkulkujaan vahvojen äitihahmojen näkökulmasta. Esitys on Anja Tiaisen dramaturgia, musiikkia soittaa KAO Konservatorion bändi, ja esitanssijoina toimivat Casamban tanssijat. Pukeudu 50- ja 60- lukujen tyyliin ja tule tanssimaan!&nbsp;</p><br /><p>Ensi-ilta 26.4. klo 18 Seminaarin Taidekampuksen näyttämöllä osoitteessa Satamakatu 3.<br></p><br /><p><u>Esityspäivämäärät:</u></p><br /><p>26.4. klo 18 (ensi-ilta)<br>28.4. klo 18<br>3.5. klo 13 & klo 18<br>5.5. klo 18<br>10.5. klo 15 (äitienpäivän esitys)<br>17.5. klo 18 (viimeinen esitys)</p><br /><br /><p><strong>Numeroimattomat istumapaikat.</strong></p><br /><p><strong>Esityksen kesto 2 tuntia.<br></strong></p><br /><p><strong>Ovet 1h ennen esityksen alkua.<br></strong></p><br /><p><strong>***<br></strong></p><br /><p><strong>Esteettömyys:</strong></p><br /><p>Avustaja pääsee tapahtumaan ilmaiseksi avustettavan kanssa samalla lipulla: <strong>kyllä</strong><br>Tapahtumaan on esteetön pääsy pyörätuolilla: <strong>kyllä</strong><br>Tapahtumapaikalla on esteetön WC: <strong>kyllä</strong><br>Tapahtumapaikalla on mahdollisuus induktiosilmukan käyttöön: <strong>ei</strong><br>Tapahtumassa on pyörätuolikoroke: <strong>ei</strong><br>Muuta huomioitavaa:<strong> <strong>Esteetön sisäänkäynti sijaitsee parkkipaikan likellä talon takapuolella, pohjakerroksessa. Takaovella on ovikello, jolla saa videoyhteyden lipunmyyntiin ja Taidekampuksen henkilökunnan tiloihin.</strong></strong></p> <br /><br />  Visit event in our website: <a href='https://tapahtumainfo.fi/tapahtuma/2026/04/olavi-laila-keinu-kanssani/441633'>Tapahtumainfo.fi</a></body></html>
END:VEVENT
END:VCALENDAR
